BEGIN:VCALENDAR
VERSION:2.0
PRODID:-//The AFT Guild - ECPv6.15.17.1//NONSGML v1.0//EN
CALSCALE:GREGORIAN
METHOD:PUBLISH
X-WR-CALNAME:The AFT Guild
X-ORIGINAL-URL:https://aftguild.org
X-WR-CALDESC:Events for The AFT Guild
REFRESH-INTERVAL;VALUE=DURATION:PT1H
X-Robots-Tag:noindex
X-PUBLISHED-TTL:PT1H
BEGIN:VTIMEZONE
TZID:America/Los_Angeles
BEGIN:DAYLIGHT
TZOFFSETFROM:-0800
TZOFFSETTO:-0700
TZNAME:PDT
DTSTART:20130310T100000
END:DAYLIGHT
BEGIN:STANDARD
TZOFFSETFROM:-0700
TZOFFSETTO:-0800
TZNAME:PST
DTSTART:20131103T090000
END:STANDARD
BEGIN:DAYLIGHT
TZOFFSETFROM:-0800
TZOFFSETTO:-0700
TZNAME:PDT
DTSTART:20140309T100000
END:DAYLIGHT
BEGIN:STANDARD
TZOFFSETFROM:-0700
TZOFFSETTO:-0800
TZNAME:PST
DTSTART:20141102T090000
END:STANDARD
BEGIN:DAYLIGHT
TZOFFSETFROM:-0800
TZOFFSETTO:-0700
TZNAME:PDT
DTSTART:20150308T100000
END:DAYLIGHT
BEGIN:STANDARD
TZOFFSETFROM:-0700
TZOFFSETTO:-0800
TZNAME:PST
DTSTART:20151101T090000
END:STANDARD
END:VTIMEZONE
BEGIN:VEVENT
DTSTART;TZID=America/Los_Angeles:20141204T150000
DTEND;TZID=America/Los_Angeles:20141204T162500
DTSTAMP:20260419T064406
CREATED:20140807T214649Z
LAST-MODIFIED:20140807T214649Z
UID:3908-1417705200-1417710300@aftguild.org
SUMMARY:General Membership Meeting
DESCRIPTION:Presidio Ballroom
URL:https://aftguild.org/event/general-membership-meeting-3
LOCATION:Handlery Hotel and Resort\, 950 Hotel Circle North\, San Diego\, 92108\, United States
CATEGORIES:General Meetings
END:VEVENT
BEGIN:VEVENT
DTSTART;TZID=America/Los_Angeles:20141209T130000
DTEND;TZID=America/Los_Angeles:20141209T140000
DTSTAMP:20260419T064406
CREATED:20140812T005207Z
LAST-MODIFIED:20140812T005207Z
UID:3930-1418130000-1418133600@aftguild.org
SUMMARY:Miramar College Liaison Meeting
DESCRIPTION:Room K-302
URL:https://aftguild.org/event/miramar-college-liaison-meeting-4
LOCATION:Miramar College\, 10440 Black Mountain Rd\,\, San Diego\, CA\, 92126\, United States
CATEGORIES:Miramar College
END:VEVENT
BEGIN:VEVENT
DTSTART;TZID=America/Los_Angeles:20141210T120000
DTEND;TZID=America/Los_Angeles:20141210T130000
DTSTAMP:20260419T064406
CREATED:20140812T004209Z
LAST-MODIFIED:20140908T214417Z
UID:3926-1418212800-1418216400@aftguild.org
SUMMARY:Cuyamaca College Liaison Meeting
DESCRIPTION:Room I-104
URL:https://aftguild.org/event/cuyamaca-college-liaison-meeting-4
LOCATION:Cuyamaca College\, 900 Rancho San Diego Pkwy\, El Cajon\, CA\, 92019\, United States
CATEGORIES:Cuyamaca College
END:VEVENT
BEGIN:VEVENT
DTSTART;TZID=America/Los_Angeles:20141210T130000
DTEND;TZID=America/Los_Angeles:20141210T140000
DTSTAMP:20260419T064406
CREATED:20140810T221355Z
LAST-MODIFIED:20140825T190416Z
UID:3922-1418216400-1418220000@aftguild.org
SUMMARY:City College Liaison Meeting
DESCRIPTION:Room D 121a
URL:https://aftguild.org/event/city-college-liaison-meeting-4
LOCATION:City College\, 1313 Park Blvd\, San Diego\, CA\, 92101\, United States
CATEGORIES:City College
END:VEVENT
BEGIN:VEVENT
DTSTART;TZID=America/Los_Angeles:20141211T113000
DTEND;TZID=America/Los_Angeles:20141211T123000
DTSTAMP:20260419T064406
CREATED:20140813T031538Z
LAST-MODIFIED:20140813T031538Z
UID:3939-1418297400-1418301000@aftguild.org
SUMMARY:Cezar Chavez Campus Liaison Meeting
DESCRIPTION:Room TBA
URL:https://aftguild.org/event/cezar-chavez-campus-liaison-meeting
LOCATION:Cesar Chavez Campus\, 1960 National Ave\, San Diego\, CA\, 92113\, United States
CATEGORIES:Continuing Education
END:VEVENT
BEGIN:VEVENT
DTSTART;TZID=America/Los_Angeles:20141211T130000
DTEND;TZID=America/Los_Angeles:20141211T140000
DTSTAMP:20260419T064406
CREATED:20140908T215759Z
LAST-MODIFIED:20140908T222741Z
UID:3973-1418302800-1418306400@aftguild.org
SUMMARY:Grossmont College Liaison Meeting
DESCRIPTION:Room 30-128
URL:https://aftguild.org/event/grossmont-college-liaison-meeting-4
LOCATION:Grossmont College\, 8800 Grossmont College Drive\, El Cajon\, CA\, 92020\, United States
CATEGORIES:Grossmont College
END:VEVENT
BEGIN:VEVENT
DTSTART;TZID=America/Los_Angeles:20141211T141500
DTEND;TZID=America/Los_Angeles:20141211T151500
DTSTAMP:20260419T064406
CREATED:20140803T015926Z
LAST-MODIFIED:20140807T212157Z
UID:3861-1418307300-1418310900@aftguild.org
SUMMARY:Mesa College Liaison Meeting
DESCRIPTION:Room H‐117/118
URL:https://aftguild.org/event/mesa-college-liaison-meeting-121114
LOCATION:Mesa College\, 7250 Mesa College Dr\, San Diego\, CA\, 92111\, United States
CATEGORIES:Mesa College
END:VEVENT
END:VCALENDAR