BEGIN:VCALENDAR
VERSION:2.0
PRODID:-//The AFT Guild - ECPv6.15.17.1//NONSGML v1.0//EN
CALSCALE:GREGORIAN
METHOD:PUBLISH
X-WR-CALNAME:The AFT Guild
X-ORIGINAL-URL:https://aftguild.org
X-WR-CALDESC:Events for The AFT Guild
REFRESH-INTERVAL;VALUE=DURATION:PT1H
X-Robots-Tag:noindex
X-PUBLISHED-TTL:PT1H
BEGIN:VTIMEZONE
TZID:America/Los_Angeles
BEGIN:DAYLIGHT
TZOFFSETFROM:-0800
TZOFFSETTO:-0700
TZNAME:PDT
DTSTART:20120311T100000
END:DAYLIGHT
BEGIN:STANDARD
TZOFFSETFROM:-0700
TZOFFSETTO:-0800
TZNAME:PST
DTSTART:20121104T090000
END:STANDARD
BEGIN:DAYLIGHT
TZOFFSETFROM:-0800
TZOFFSETTO:-0700
TZNAME:PDT
DTSTART:20130310T100000
END:DAYLIGHT
BEGIN:STANDARD
TZOFFSETFROM:-0700
TZOFFSETTO:-0800
TZNAME:PST
DTSTART:20131103T090000
END:STANDARD
BEGIN:DAYLIGHT
TZOFFSETFROM:-0800
TZOFFSETTO:-0700
TZNAME:PDT
DTSTART:20140309T100000
END:DAYLIGHT
BEGIN:STANDARD
TZOFFSETFROM:-0700
TZOFFSETTO:-0800
TZNAME:PST
DTSTART:20141102T090000
END:STANDARD
BEGIN:DAYLIGHT
TZOFFSETFROM:-0800
TZOFFSETTO:-0700
TZNAME:PDT
DTSTART:20150308T100000
END:DAYLIGHT
BEGIN:STANDARD
TZOFFSETFROM:-0700
TZOFFSETTO:-0800
TZNAME:PST
DTSTART:20151101T090000
END:STANDARD
END:VTIMEZONE
BEGIN:VEVENT
DTSTART;TZID=America/Los_Angeles:20140206T030000
DTEND;TZID=America/Los_Angeles:20140206T163000
DTSTAMP:20260419T173440
CREATED:20140401T213312Z
LAST-MODIFIED:20140428T223257Z
UID:1042-1391655600-1391704200@aftguild.org
SUMMARY:February 6\, 2014
DESCRIPTION:Presidio Ballroom \nhttps://aftguild.org/Agendas/Union-Agenda-February-2014.pdf
URL:https://aftguild.org/event/february-6-2014
LOCATION:Handlery Hotel and Resort\, 950 Hotel Circle North\, San Diego\, 92108\, United States
CATEGORIES:General Meetings
END:VEVENT
BEGIN:VEVENT
DTSTART;TZID=America/Los_Angeles:20131205T150000
DTEND;TZID=America/Los_Angeles:20131205T163000
DTSTAMP:20260419T173440
CREATED:20140401T205502Z
LAST-MODIFIED:20140428T223258Z
UID:1038-1386255600-1386261000@aftguild.org
SUMMARY:December 5\, 2013
DESCRIPTION:
URL:https://aftguild.org/event/december-5-2013
LOCATION:Handlery Hotel and Resort\, 950 Hotel Circle North\, San Diego\, 92108\, United States
CATEGORIES:General Meetings
END:VEVENT
BEGIN:VEVENT
DTSTART;TZID=America/Los_Angeles:20131107T150000
DTEND;TZID=America/Los_Angeles:20131107T163000
DTSTAMP:20260419T173440
CREATED:20140401T205618Z
LAST-MODIFIED:20140428T223258Z
UID:1039-1383836400-1383841800@aftguild.org
SUMMARY:November 7\, 2013
DESCRIPTION:https://aftguild.org/Agendas/Union-Agenda-November-2013.pdf
URL:https://aftguild.org/event/november-7-2013
LOCATION:Handlery Hotel and Resort\, 950 Hotel Circle North\, San Diego\, 92108\, United States
CATEGORIES:General Meetings
END:VEVENT
BEGIN:VEVENT
DTSTART;TZID=America/Los_Angeles:20131003T150000
DTEND;TZID=America/Los_Angeles:20131003T163000
DTSTAMP:20260419T173440
CREATED:20140401T213042Z
LAST-MODIFIED:20140428T223258Z
UID:1040-1380812400-1380817800@aftguild.org
SUMMARY:October 3\, 2013
DESCRIPTION:https://aftguild.org/Agendas/Union-Agenda-October-2013.pdf
URL:https://aftguild.org/event/october-3-2013
LOCATION:Handlery Hotel and Resort\, 950 Hotel Circle North\, San Diego\, 92108\, United States
CATEGORIES:General Meetings
END:VEVENT
BEGIN:VEVENT
DTSTART;TZID=America/Los_Angeles:20130905T150000
DTEND;TZID=America/Los_Angeles:20130905T163000
DTSTAMP:20260419T173440
CREATED:20140401T213143Z
LAST-MODIFIED:20140428T223258Z
UID:1041-1378393200-1378398600@aftguild.org
SUMMARY:September 5\, 2013
DESCRIPTION:https://aftguild.org/Agendas/Union-Agenda-September-2013.pdf
URL:https://aftguild.org/event/september-5-2013
LOCATION:Handlery Hotel and Resort\, 950 Hotel Circle North\, San Diego\, 92108\, United States
CATEGORIES:General Meetings
END:VEVENT
END:VCALENDAR