BEGIN:VCALENDAR
VERSION:2.0
PRODID:-//The AFT Guild - ECPv6.15.17.1//NONSGML v1.0//EN
CALSCALE:GREGORIAN
METHOD:PUBLISH
X-ORIGINAL-URL:https://aftguild.org
X-WR-CALDESC:Events for The AFT Guild
REFRESH-INTERVAL;VALUE=DURATION:PT1H
X-Robots-Tag:noindex
X-PUBLISHED-TTL:PT1H
BEGIN:VTIMEZONE
TZID:America/Los_Angeles
BEGIN:DAYLIGHT
TZOFFSETFROM:-0800
TZOFFSETTO:-0700
TZNAME:PDT
DTSTART:20230312T100000
END:DAYLIGHT
BEGIN:STANDARD
TZOFFSETFROM:-0700
TZOFFSETTO:-0800
TZNAME:PST
DTSTART:20231105T090000
END:STANDARD
BEGIN:DAYLIGHT
TZOFFSETFROM:-0800
TZOFFSETTO:-0700
TZNAME:PDT
DTSTART:20240310T100000
END:DAYLIGHT
BEGIN:STANDARD
TZOFFSETFROM:-0700
TZOFFSETTO:-0800
TZNAME:PST
DTSTART:20241103T090000
END:STANDARD
BEGIN:DAYLIGHT
TZOFFSETFROM:-0800
TZOFFSETTO:-0700
TZNAME:PDT
DTSTART:20250309T100000
END:DAYLIGHT
BEGIN:STANDARD
TZOFFSETFROM:-0700
TZOFFSETTO:-0800
TZNAME:PST
DTSTART:20251102T090000
END:STANDARD
END:VTIMEZONE
BEGIN:VEVENT
DTSTART;TZID=America/Los_Angeles:20240519T110000
DTEND;TZID=America/Los_Angeles:20240519T133000
DTSTAMP:20260422T001255
CREATED:20240422T220718Z
LAST-MODIFIED:20240422T230957Z
UID:18590-1716116400-1716125400@aftguild.org
SUMMARY:26th Annual Retiree Brunch
DESCRIPTION:Enjoy a wonderful brunch & celebrate our AFT Guild Retirees! \nReserve your tickets by May 13th at: https://aftguild.org/payments/retireebrunch \n 
URL:https://aftguild.org/event/26th-annual-retiree-brunch
LOCATION:Humphreys Shelter Island\, 2241 Shelter Island Drive\, San Diego\, CA\, United States
ATTACH;FMTTYPE=image/jpeg:https://aftguild.org/wp-content/uploads/2024/04/Retiree-Brunch-2024.jpg
END:VEVENT
BEGIN:VEVENT
DTSTART;TZID=America/Los_Angeles:20240522T160000
DTEND;TZID=America/Los_Angeles:20240522T170000
DTSTAMP:20260422T001255
CREATED:20240201T005716Z
LAST-MODIFIED:20240201T005727Z
UID:17841-1716393600-1716397200@aftguild.org
SUMMARY:Unemployment Workshop
DESCRIPTION:Zoom
URL:https://aftguild.org/event/unemployment-workshop
LOCATION:Zoom
CATEGORIES:Zoom
END:VEVENT
BEGIN:VEVENT
DTSTART;TZID=America/Los_Angeles:20240731T120000
DTEND;TZID=America/Los_Angeles:20240731T150000
DTSTAMP:20260422T001255
CREATED:20240726T220328Z
LAST-MODIFIED:20240726T220328Z
UID:18692-1722427200-1722438000@aftguild.org
SUMMARY:AFT Guild Voter Mobilization Letter-Writing Project
DESCRIPTION:Led by our Retiree Chapter\, the Guild is focusing on turning out low propensity swing state voters as one of its top priorities during this current electoral season. We will accomplish this by writing non-partisan letters of encouragement to voters in these critical states. This is a crucially important action as we are all very well aware of the high stakes at hand in this election. \nWhere: North City Campus\, 8355 Aero Dr.\, San Diego\, 92123.\nRSVP Registration \nWe’ll provide letter templates and writing supplies. We’ll also have great food to power your active participation! So\, this is an easy ask of all members. \nYou may also bring adult family members and friends to participate in this effort. Turn anxiety into ACTION! \nThere is ample parking in the parking structure adjacent to the building\, on the south side. We will meet in rooms 101/102\, next to the lobby at the main entrance. \nNow is the time to register for the AFT Guild Voter Mobilization Letter-Writing Project! \nWednesday\, July 31: 12:00 – 3:00P \nWednesday\, August 14\, 12:00 – 3:00P \nWednesday\, August 28\, 12:00 – 3:00P \nWednesday\, September 11\, 12:00 – 3:00P \nWednesday\, September 25\, 12:00 – 3:00P
URL:https://aftguild.org/event/aft-guild-voter-mobilization-letter-writing-project
LOCATION:North City Campus\, 8355 Aero Dr.\, San Diego\, 92123\, United States
END:VEVENT
BEGIN:VEVENT
DTSTART;TZID=America/Los_Angeles:20240814T120000
DTEND;TZID=America/Los_Angeles:20240814T150000
DTSTAMP:20260422T001255
CREATED:20240726T220514Z
LAST-MODIFIED:20240813T180857Z
UID:18696-1723636800-1723647600@aftguild.org
SUMMARY:AFT Guild Voter Mobilization Letter-Writing Project
DESCRIPTION:Led by our Retiree Chapter\, the Guild is focusing on turning out low propensity swing state voters as one of its top priorities during this current electoral season. We will accomplish this by writing non-partisan letters of encouragement to voters in these critical states. This is a crucially important action as we are all very well aware of the high stakes at hand in this election. \nWhere: North City Campus\, 8355 Aero Dr.\, San Diego\, 92123.\nRSVP Registration \nWe’ll provide letter templates and writing supplies. We’ll also have great food to power your active participation! So\, this is an easy ask of all members. \nYou may also bring adult family members and friends to participate in this effort. Turn anxiety into ACTION! \nThere is ample parking in the parking structure adjacent to the building\, on the south side. We will meet in rooms 101/102\, next to the lobby at the main entrance. \nNow is the time to register for the AFT Guild Voter Mobilization Letter-Writing Project! \nWednesday\, July 31: 12:00 – 3:00P \nWednesday\, August 14\, 12:00 – 3:00P \nWednesday\, August 28\, 12:00 – 3:00P \nWednesday\, September 11\, 12:00 – 3:00P \nWednesday\, September 25\, 12:00 – 3:00P
URL:https://aftguild.org/event/aft-guild-voter-mobilization-letter-writing-project-2
LOCATION:North City Campus\, 8355 Aero Dr.\, San Diego\, 92123\, United States
END:VEVENT
BEGIN:VEVENT
DTSTART;TZID=America/Los_Angeles:20240828T120000
DTEND;TZID=America/Los_Angeles:20240828T150000
DTSTAMP:20260422T001255
CREATED:20240726T220559Z
LAST-MODIFIED:20240813T180923Z
UID:18698-1724846400-1724857200@aftguild.org
SUMMARY:AFT Guild Voter Mobilization Letter-Writing Project
DESCRIPTION:Led by our Retiree Chapter\, the Guild is focusing on turning out low propensity swing state voters as one of its top priorities during this current electoral season. We will accomplish this by writing non-partisan letters of encouragement to voters in these critical states. This is a crucially important action as we are all very well aware of the high stakes at hand in this election. \nWhere: North City Campus\, 8355 Aero Dr.\, San Diego\, 92123.\nRSVP Registration \nWe’ll provide letter templates and writing supplies. We’ll also have great food to power your active participation! So\, this is an easy ask of all members. \nYou may also bring adult family members and friends to participate in this effort. Turn anxiety into ACTION! \nThere is ample parking in the parking structure adjacent to the building\, on the south side. We will meet in rooms 101/102\, next to the lobby at the main entrance. \nNow is the time to register for the AFT Guild Voter Mobilization Letter-Writing Project! \nWednesday\, July 31: 12:00 – 3:00P \nWednesday\, August 14\, 12:00 – 3:00P \nWednesday\, August 28\, 12:00 – 3:00P \nWednesday\, September 11\, 12:00 – 3:00P \nWednesday\, September 25\, 12:00 – 3:00P
URL:https://aftguild.org/event/aft-guild-voter-mobilization-letter-writing-project-3
LOCATION:North City Campus\, 8355 Aero Dr.\, San Diego\, 92123\, United States
END:VEVENT
BEGIN:VEVENT
DTSTART;TZID=America/Los_Angeles:20240906T153000
DTEND;TZID=America/Los_Angeles:20240906T170000
DTSTAMP:20260422T001255
CREATED:20240822T221250Z
LAST-MODIFIED:20240822T221250Z
UID:18744-1725636600-1725642000@aftguild.org
SUMMARY:First Friday: Yin Yoga and Sound Bath
DESCRIPTION:City College\, P 229 \nRSVP Required at: https://forms.office.com/r/nADaC0bMri
URL:https://aftguild.org/event/first-friday-yin-yoga-and-sound-bath
LOCATION:City College\, 1313 Park Blvd\, San Diego\, CA\, 92101\, United States
CATEGORIES:City College
END:VEVENT
BEGIN:VEVENT
DTSTART;TZID=America/Los_Angeles:20240908T113000
DTEND;TZID=America/Los_Angeles:20240908T190000
DTSTAMP:20260422T001255
CREATED:20240807T192019Z
LAST-MODIFIED:20240813T225210Z
UID:18708-1725795000-1725822000@aftguild.org
SUMMARY:AFT Guild 1931 Padres Tailgate and Family Day 9/8/24
DESCRIPTION:To RSVP for the tailgate use this link: https://docs.google.com/forms/d/e/1FAIpQLSduWibq6dpvR9Qidva7PfDqpEJ5nnNAOk-VYldghCLfHWqgiQ/viewform?usp=sf_link \nTo purchase tickets use this form: \nTickets Are Sold Out
URL:https://aftguild.org/event/aft-guild-1931-padres-tailgate-and-family-day-9-8-24
LOCATION:Petco Park\, 100 Park Blvd\, San Diego\, CA\, 92101\, United States
ATTACH;FMTTYPE=image/jpeg:https://aftguild.org/wp-content/uploads/2024/08/Padres-Sept-8-Save-the-Date.jpg
END:VEVENT
BEGIN:VEVENT
DTSTART;TZID=America/Los_Angeles:20240911T120000
DTEND;TZID=America/Los_Angeles:20240911T150000
DTSTAMP:20260422T001255
CREATED:20240726T220636Z
LAST-MODIFIED:20240813T180947Z
UID:18700-1726056000-1726066800@aftguild.org
SUMMARY:AFT Guild Voter Mobilization Letter-Writing Project
DESCRIPTION:Led by our Retiree Chapter\, the Guild is focusing on turning out low propensity swing state voters as one of its top priorities during this current electoral season. We will accomplish this by writing non-partisan letters of encouragement to voters in these critical states. This is a crucially important action as we are all very well aware of the high stakes at hand in this election. \nWhere: North City Campus\, 8355 Aero Dr.\, San Diego\, 92123.\nRSVP Registration \nWe’ll provide letter templates and writing supplies. We’ll also have great food to power your active participation! So\, this is an easy ask of all members. \nYou may also bring adult family members and friends to participate in this effort. Turn anxiety into ACTION! \nThere is ample parking in the parking structure adjacent to the building\, on the south side. We will meet in rooms 101/102\, next to the lobby at the main entrance. \nNow is the time to register for the AFT Guild Voter Mobilization Letter-Writing Project! \nWednesday\, July 31: 12:00 – 3:00P \nWednesday\, August 14\, 12:00 – 3:00P \nWednesday\, August 28\, 12:00 – 3:00P \nWednesday\, September 11\, 12:00 – 3:00P \nWednesday\, September 25\, 12:00 – 3:00P
URL:https://aftguild.org/event/aft-guild-voter-mobilization-letter-writing-project-4
LOCATION:North City Campus\, 8355 Aero Dr.\, San Diego\, 92123\, United States
END:VEVENT
BEGIN:VEVENT
DTSTART;TZID=America/Los_Angeles:20240913T130000
DTEND;TZID=America/Los_Angeles:20240913T160000
DTSTAMP:20260422T001255
CREATED:20240822T221409Z
LAST-MODIFIED:20240822T221409Z
UID:18746-1726232400-1726243200@aftguild.org
SUMMARY:Boundaries: What\, Why & How
DESCRIPTION:City College\, BT 301 \nRSVP required: https://forms.office.com/r/5Rw4gv7nEv
URL:https://aftguild.org/event/boundaries-what-why-how
LOCATION:City College\, 1313 Park Blvd\, San Diego\, CA\, 92101\, United States
CATEGORIES:City College
END:VEVENT
BEGIN:VEVENT
DTSTART;TZID=America/Los_Angeles:20240920T130000
DTEND;TZID=America/Los_Angeles:20240920T150000
DTSTAMP:20260422T001255
CREATED:20240822T221532Z
LAST-MODIFIED:20240822T221532Z
UID:18748-1726837200-1726844400@aftguild.org
SUMMARY:Curating CV or Resume
DESCRIPTION:CE Mesa\, Room 118\nRSVP Required: https://forms.office.com/r/TUVegqujFZ
URL:https://aftguild.org/event/curating-cv-or-resume
LOCATION:Mesa College\, 7250 Mesa College Dr\, San Diego\, CA\, 92111\, United States
END:VEVENT
BEGIN:VEVENT
DTSTART;TZID=America/Los_Angeles:20240925T120000
DTEND;TZID=America/Los_Angeles:20240925T150000
DTSTAMP:20260422T001255
CREATED:20240726T220714Z
LAST-MODIFIED:20240813T181008Z
UID:18702-1727265600-1727276400@aftguild.org
SUMMARY:AFT Guild Voter Mobilization Letter-Writing Project
DESCRIPTION:Led by our Retiree Chapter\, the Guild is focusing on turning out low propensity swing state voters as one of its top priorities during this current electoral season. We will accomplish this by writing non-partisan letters of encouragement to voters in these critical states. This is a crucially important action as we are all very well aware of the high stakes at hand in this election. \nWhere: North City Campus\, 8355 Aero Dr.\, San Diego\, 92123.\nRSVP Registration \nWe’ll provide letter templates and writing supplies. We’ll also have great food to power your active participation! So\, this is an easy ask of all members. \nYou may also bring adult family members and friends to participate in this effort. Turn anxiety into ACTION! \nThere is ample parking in the parking structure adjacent to the building\, on the south side. We will meet in rooms 101/102\, next to the lobby at the main entrance. \nNow is the time to register for the AFT Guild Voter Mobilization Letter-Writing Project! \nWednesday\, July 31: 12:00 – 3:00P \nWednesday\, August 14\, 12:00 – 3:00P \nWednesday\, August 28\, 12:00 – 3:00P \nWednesday\, September 11\, 12:00 – 3:00P \nWednesday\, September 25\, 12:00 – 3:00P
URL:https://aftguild.org/event/aft-guild-voter-mobilization-letter-writing-project-5
LOCATION:North City Campus\, 8355 Aero Dr.\, San Diego\, 92123\, United States
END:VEVENT
BEGIN:VEVENT
DTSTART;TZID=America/Los_Angeles:20240926T150000
DTEND;TZID=America/Los_Angeles:20240926T163000
DTSTAMP:20260422T001255
CREATED:20240822T221618Z
LAST-MODIFIED:20240822T221636Z
UID:18750-1727362800-1727368200@aftguild.org
SUMMARY:Equitable Technology Series (4 Parts): Using Email Effectively
DESCRIPTION:Location TBD\nRSVP required: https://forms.office.com/r/uzryuqT5xV
URL:https://aftguild.org/event/equitable-technology-series-4-parts-using-email-effectively
END:VEVENT
BEGIN:VEVENT
DTSTART;TZID=America/Los_Angeles:20240928T170000
DTEND;TZID=America/Los_Angeles:20240928T230000
DTSTAMP:20260422T001255
CREATED:20240820T213302Z
LAST-MODIFIED:20240924T001032Z
UID:18737-1727542800-1727564400@aftguild.org
SUMMARY:San Diego Wave Event-09/28
DESCRIPTION:Wave Tickets Are Sold Out
URL:https://aftguild.org/event/san-diego-wave-event-09-28
LOCATION:Snapdragon Stadium\, 2101 Stadium Wy\, San Diego\, CA\, 92108\, United States
ATTACH;FMTTYPE=image/jpeg:https://aftguild.org/wp-content/uploads/2024/08/AFT-Guild-Wave-Night-Flyer.jpg
END:VEVENT
BEGIN:VEVENT
DTSTART;TZID=America/Los_Angeles:20241003T150000
DTEND;TZID=America/Los_Angeles:20241003T170000
DTSTAMP:20260422T001255
CREATED:20240919T213144Z
LAST-MODIFIED:20240919T213144Z
UID:18860-1727967600-1727974800@aftguild.org
SUMMARY:AFT General Union Meeting Mesa College
DESCRIPTION:College\n3-5pm MC-211a/b\n7250 Mesa College Dr\, San Diego\, CA 92111\, United States
URL:https://aftguild.org/event/aft-general-union-meeting-mesa-college
LOCATION:Mesa College\, 7250 Mesa College Dr\, San Diego\, CA\, 92111\, United States
CATEGORIES:General Meetings,Mesa College
END:VEVENT
BEGIN:VEVENT
DTSTART;TZID=America/Los_Angeles:20241004T130000
DTEND;TZID=America/Los_Angeles:20241004T153000
DTSTAMP:20260422T001255
CREATED:20240913T223029Z
LAST-MODIFIED:20240925T205418Z
UID:18833-1728046800-1728055800@aftguild.org
SUMMARY:Tenure-Track Bootcamp: The Paper Round Panel
DESCRIPTION:Mesa College\, BT 201 \nRSVP is required: click HERE
URL:https://aftguild.org/event/tenure-track-bootcamp-the-paper-round-panel
LOCATION:Mesa College\, 7250 Mesa College Dr\, San Diego\, CA\, 92111\, United States
CATEGORIES:Mesa College
END:VEVENT
BEGIN:VEVENT
DTSTART;TZID=America/Los_Angeles:20241004T153000
DTEND;TZID=America/Los_Angeles:20241004T170000
DTSTAMP:20260422T001255
CREATED:20240913T222849Z
LAST-MODIFIED:20240913T222849Z
UID:18831-1728055800-1728061200@aftguild.org
SUMMARY:First Friday: Yin Yoga & Sound Bath
DESCRIPTION:ECC 169 \nRSVP is required: click HERE
URL:https://aftguild.org/event/first-friday-yin-yoga-sound-bath
END:VEVENT
BEGIN:VEVENT
DTSTART;TZID=America/Los_Angeles:20241011T090000
DTEND;TZID=America/Los_Angeles:20241011T150000
DTSTAMP:20260422T001255
CREATED:20240913T223116Z
LAST-MODIFIED:20240913T223116Z
UID:18835-1728637200-1728658800@aftguild.org
SUMMARY:Tenure-Track Bootcamp: Interview & Teaching Demo
DESCRIPTION:City College\, MS 123 \nRSVP is required: click HERE
URL:https://aftguild.org/event/tenure-track-bootcamp-interview-teaching-demo
LOCATION:City College\, 1313 Park Blvd\, San Diego\, CA\, 92101\, United States
CATEGORIES:City College
END:VEVENT
BEGIN:VEVENT
DTSTART;TZID=America/Los_Angeles:20241017T150000
DTEND;TZID=America/Los_Angeles:20241017T163000
DTSTAMP:20260422T001255
CREATED:20240913T223223Z
LAST-MODIFIED:20240913T223223Z
UID:18837-1729177200-1729182600@aftguild.org
SUMMARY:Building Wealth
DESCRIPTION:CE North City\, Multi-purpose Room (101 and 102) \nRSVP Required: Click HERE
URL:https://aftguild.org/event/building-wealth
END:VEVENT
BEGIN:VEVENT
DTSTART;TZID=America/Los_Angeles:20241018T140000
DTEND;TZID=America/Los_Angeles:20241018T160000
DTSTAMP:20260422T001255
CREATED:20240913T223335Z
LAST-MODIFIED:20240913T223335Z
UID:18839-1729260000-1729267200@aftguild.org
SUMMARY:Classified Professional Round Table
DESCRIPTION:VEBA\, 5250 Ruffin Rd. \nRSVP is required: click HERE
URL:https://aftguild.org/event/classified-professional-round-table
END:VEVENT
BEGIN:VEVENT
DTSTART;TZID=America/Los_Angeles:20241025T130000
DTEND;TZID=America/Los_Angeles:20241025T150000
DTSTAMP:20260422T001255
CREATED:20240913T223421Z
LAST-MODIFIED:20240913T223421Z
UID:18841-1729861200-1729868400@aftguild.org
SUMMARY:Master's\, Ph.D.\, or Ed.D.?
DESCRIPTION:CE North City\, Multi-purpose room \nRSVP is required: click HERE
URL:https://aftguild.org/event/masters-ph-d-or-ed-d
END:VEVENT
BEGIN:VEVENT
DTSTART;TZID=America/Los_Angeles:20241029T130000
DTEND;TZID=America/Los_Angeles:20241029T140000
DTSTAMP:20260422T001255
CREATED:20241031T003031Z
LAST-MODIFIED:20241031T003031Z
UID:19064-1730206800-1730210400@aftguild.org
SUMMARY:Continuing Education Fall Social North City
DESCRIPTION:
URL:https://aftguild.org/event/continuing-education-fall-social-north-city
LOCATION:North City Campus\, 8355 Aero Dr.\, San Diego\, 92123\, United States
ATTACH;FMTTYPE=image/jpeg:https://aftguild.org/wp-content/uploads/2024/10/North-City.jpg
END:VEVENT
BEGIN:VEVENT
DTSTART;TZID=America/Los_Angeles:20241030T103000
DTEND;TZID=America/Los_Angeles:20241030T113000
DTSTAMP:20260422T001255
CREATED:20241031T002933Z
LAST-MODIFIED:20241031T002933Z
UID:19061-1730284200-1730287800@aftguild.org
SUMMARY:Continuing Education Fall Social CE Mesa
DESCRIPTION:
URL:https://aftguild.org/event/continuing-education-fall-social-ce-mesa
LOCATION:Mesa College\, 7250 Mesa College Dr\, San Diego\, CA\, 92111\, United States
ATTACH;FMTTYPE=image/jpeg:https://aftguild.org/wp-content/uploads/2024/10/CE-Mesa.jpg
END:VEVENT
BEGIN:VEVENT
DTSTART;TZID=America/Los_Angeles:20241030T110000
DTEND;TZID=America/Los_Angeles:20241030T120000
DTSTAMP:20260422T001255
CREATED:20241031T002559Z
LAST-MODIFIED:20241031T002559Z
UID:19053-1730286000-1730289600@aftguild.org
SUMMARY:Continuing Education Fall Social ECC
DESCRIPTION:
URL:https://aftguild.org/event/continuing-education-fall-social-ecc
LOCATION:Educational Cultural Complex\, 4343 Ocean View Blvd.\, San Diego\, California\, 92113
ATTACH;FMTTYPE=image/jpeg:https://aftguild.org/wp-content/uploads/2024/10/ECC.jpg
END:VEVENT
BEGIN:VEVENT
DTSTART;TZID=America/Los_Angeles:20241030T120000
DTEND;TZID=America/Los_Angeles:20241030T130000
DTSTAMP:20260422T001255
CREATED:20241031T003138Z
LAST-MODIFIED:20241031T003138Z
UID:19067-1730289600-1730293200@aftguild.org
SUMMARY:Continuing Education Fall Social Chavez
DESCRIPTION:
URL:https://aftguild.org/event/continuing-education-fall-social-chavez
ATTACH;FMTTYPE=image/jpeg:https://aftguild.org/wp-content/uploads/2024/10/Chavez.jpg
END:VEVENT
BEGIN:VEVENT
DTSTART;TZID=America/Los_Angeles:20241031T130000
DTEND;TZID=America/Los_Angeles:20241031T140000
DTSTAMP:20260422T001255
CREATED:20241031T002734Z
LAST-MODIFIED:20241031T002734Z
UID:19056-1730379600-1730383200@aftguild.org
SUMMARY:Continuing Education Fall Social Mid-City
DESCRIPTION:
URL:https://aftguild.org/event/continuing-education-fall-social-mid-city
LOCATION:Mid-City Center\, 3792 Fairmount Ave.\, San Diego\, CA\, 92105\, United States
ATTACH;FMTTYPE=image/jpeg:https://aftguild.org/wp-content/uploads/2024/10/Mid-City.jpg
END:VEVENT
BEGIN:VEVENT
DTSTART;TZID=America/Los_Angeles:20241031T170000
DTEND;TZID=America/Los_Angeles:20241031T180000
DTSTAMP:20260422T001255
CREATED:20241031T002809Z
LAST-MODIFIED:20241031T002809Z
UID:19059-1730394000-1730397600@aftguild.org
SUMMARY:Continuing Education Fall Social Mid-City
DESCRIPTION:
URL:https://aftguild.org/event/continuing-education-fall-social-mid-city-2
LOCATION:Mid-City Center\, 3792 Fairmount Ave.\, San Diego\, CA\, 92105\, United States
ATTACH;FMTTYPE=image/jpeg:https://aftguild.org/wp-content/uploads/2024/10/Mid-City.jpg
END:VEVENT
BEGIN:VEVENT
DTSTART;TZID=America/Los_Angeles:20241101T153000
DTEND;TZID=America/Los_Angeles:20241101T170000
DTSTAMP:20260422T001255
CREATED:20241021T223145Z
LAST-MODIFIED:20241021T223145Z
UID:19027-1730475000-1730480400@aftguild.org
SUMMARY:Yin Yoga & Sound Bath
DESCRIPTION:CE North City\, multi-purpose room\nRegistration is required: click HERE
URL:https://aftguild.org/event/yin-yoga-sound-bath
LOCATION:North City Campus\, 8355 Aero Dr.\, San Diego\, 92123\, United States
END:VEVENT
BEGIN:VEVENT
DTSTART;TZID=America/Los_Angeles:20241102T090000
DTEND;TZID=America/Los_Angeles:20241102T180000
DTSTAMP:20260422T001255
CREATED:20240925T204322Z
LAST-MODIFIED:20241019T000249Z
UID:18820-1730538000-1730570400@aftguild.org
SUMMARY:SD Zoo Day
DESCRIPTION:Tickets are $20 each. Max total adult and child tickets combined is 6. \nAll tickets must be picked up by Fri. 11/01 at the AFT Office.  \nTicket Sales Are Closed As Of 5pm Pacific on 10/18/2024\n 
URL:https://aftguild.org/event/sd-zoo-day
LOCATION:San Diego Zoo\, 2929 Zoo Drive\, San Diego\, CA\, 92101\, United States
ATTACH;FMTTYPE=image/jpeg:https://aftguild.org/wp-content/uploads/2024/09/San-Diego-Zoo-Flyer.jpg
END:VEVENT
BEGIN:VEVENT
DTSTART;TZID=America/Los_Angeles:20241105T130000
DTEND;TZID=America/Los_Angeles:20241105T150000
DTSTAMP:20260422T001255
CREATED:20241031T003255Z
LAST-MODIFIED:20241031T003255Z
UID:19070-1730811600-1730818800@aftguild.org
SUMMARY:Cuyamaca College Fall Social
DESCRIPTION:Quad Area between Buildings H and I
URL:https://aftguild.org/event/cuyamaca-college-fall-social
ATTACH;FMTTYPE=image/jpeg:https://aftguild.org/wp-content/uploads/2024/10/Cuyamaca-Nachos-Libres.jpg
END:VEVENT
BEGIN:VEVENT
DTSTART;TZID=America/Los_Angeles:20241107T150000
DTEND;TZID=America/Los_Angeles:20241107T170000
DTSTAMP:20260422T001255
CREATED:20240919T213314Z
LAST-MODIFIED:20240919T213314Z
UID:18862-1730991600-1730998800@aftguild.org
SUMMARY:AFT General Union Meeting SDCCE
DESCRIPTION:San Diego College Of Continuing Education – North City\n3-5pm Meeting Rooms 101/102\n8355 Aero Dr\, San Diego\, CA 92123
URL:https://aftguild.org/event/aft-general-union-meeting-sdcce
LOCATION:North City Campus\, 8355 Aero Dr.\, San Diego\, 92123\, United States
CATEGORIES:Continuing Education,General Meetings
END:VEVENT
END:VCALENDAR