BEGIN:VCALENDAR
VERSION:2.0
PRODID:-//The AFT Guild - ECPv6.15.17.1//NONSGML v1.0//EN
CALSCALE:GREGORIAN
METHOD:PUBLISH
X-WR-CALNAME:The AFT Guild
X-ORIGINAL-URL:https://aftguild.org
X-WR-CALDESC:Events for The AFT Guild
REFRESH-INTERVAL;VALUE=DURATION:PT1H
X-Robots-Tag:noindex
X-PUBLISHED-TTL:PT1H
BEGIN:VTIMEZONE
TZID:America/Los_Angeles
BEGIN:DAYLIGHT
TZOFFSETFROM:-0800
TZOFFSETTO:-0700
TZNAME:PDT
DTSTART:20220313T100000
END:DAYLIGHT
BEGIN:STANDARD
TZOFFSETFROM:-0700
TZOFFSETTO:-0800
TZNAME:PST
DTSTART:20221106T090000
END:STANDARD
BEGIN:DAYLIGHT
TZOFFSETFROM:-0800
TZOFFSETTO:-0700
TZNAME:PDT
DTSTART:20230312T100000
END:DAYLIGHT
BEGIN:STANDARD
TZOFFSETFROM:-0700
TZOFFSETTO:-0800
TZNAME:PST
DTSTART:20231105T090000
END:STANDARD
BEGIN:DAYLIGHT
TZOFFSETFROM:-0800
TZOFFSETTO:-0700
TZNAME:PDT
DTSTART:20240310T100000
END:DAYLIGHT
BEGIN:STANDARD
TZOFFSETFROM:-0700
TZOFFSETTO:-0800
TZNAME:PST
DTSTART:20241103T090000
END:STANDARD
BEGIN:DAYLIGHT
TZOFFSETFROM:-0800
TZOFFSETTO:-0700
TZNAME:PDT
DTSTART:20250309T100000
END:DAYLIGHT
BEGIN:STANDARD
TZOFFSETFROM:-0700
TZOFFSETTO:-0800
TZNAME:PST
DTSTART:20251102T090000
END:STANDARD
END:VTIMEZONE
BEGIN:VEVENT
DTSTART;TZID=America/Los_Angeles:20231011T133000
DTEND;TZID=America/Los_Angeles:20231011T143000
DTSTAMP:20260421T164827
CREATED:20230920T161851Z
LAST-MODIFIED:20230920T161851Z
UID:17132-1697031000-1697034600@aftguild.org
SUMMARY:Coffee & Pan Dulce
DESCRIPTION:G-301
URL:https://aftguild.org/event/coffee-pan-dulce
LOCATION:Cuyamaca College\, 900 Rancho San Diego Pkwy\, El Cajon\, CA\, 92019\, United States
CATEGORIES:Cuyamaca College
END:VEVENT
BEGIN:VEVENT
DTSTART;TZID=America/Los_Angeles:20231013T090000
DTEND;TZID=America/Los_Angeles:20231013T150000
DTSTAMP:20260421T164827
CREATED:20230823T203332Z
LAST-MODIFIED:20230823T203332Z
UID:16794-1697187600-1697209200@aftguild.org
SUMMARY:Tenure-Track Application Bootcamp
DESCRIPTION:Location TBD
URL:https://aftguild.org/event/tenure-track-application-bootcamp
LOCATION:CA
END:VEVENT
BEGIN:VEVENT
DTSTART;TZID=America/Los_Angeles:20231020T120000
DTEND;TZID=America/Los_Angeles:20231020T150000
DTSTAMP:20260421T164827
CREATED:20230823T201628Z
LAST-MODIFIED:20230823T201628Z
UID:16780-1697803200-1697814000@aftguild.org
SUMMARY:Leadership 101: Leading with our Values
DESCRIPTION:
URL:https://aftguild.org/event/leadership-101-leading-with-our-values
LOCATION:CA
END:VEVENT
BEGIN:VEVENT
DTSTART;VALUE=DATE:20231023
DTEND;VALUE=DATE:20231028
DTSTAMP:20260421T164827
CREATED:20230823T201729Z
LAST-MODIFIED:20230823T201729Z
UID:16782-1698019200-1698451199@aftguild.org
SUMMARY:PT Faculty Campus Equity Week
DESCRIPTION:
URL:https://aftguild.org/event/pt-faculty-campus-equity-week
LOCATION:CA
END:VEVENT
BEGIN:VEVENT
DTSTART;TZID=America/Los_Angeles:20231025T123000
DTEND;TZID=America/Los_Angeles:20231025T143000
DTSTAMP:20260421T164827
CREATED:20230920T162017Z
LAST-MODIFIED:20231012T213715Z
UID:17134-1698237000-1698244200@aftguild.org
SUMMARY:Halloween Event
DESCRIPTION:
URL:https://aftguild.org/event/halloween-event
LOCATION:Mid-City Center\, 3792 Fairmount Ave.\, San Diego\, CA\, 92105\, United States
CATEGORIES:Continuing Education
END:VEVENT
BEGIN:VEVENT
DTSTART;VALUE=DATE:20231027
DTEND;VALUE=DATE:20231102
DTSTAMP:20260421T164827
CREATED:20230823T201828Z
LAST-MODIFIED:20230920T161044Z
UID:16784-1698364800-1698883199@aftguild.org
SUMMARY:AFT Guild Halloween Costume Contest
DESCRIPTION:
URL:https://aftguild.org/event/all-member-halloween-costume-party
LOCATION:CA
END:VEVENT
BEGIN:VEVENT
DTSTART;TZID=America/Los_Angeles:20231102T150000
DTEND;TZID=America/Los_Angeles:20231102T170000
DTSTAMP:20260421T164827
CREATED:20230830T220605Z
LAST-MODIFIED:20230830T220605Z
UID:16824-1698937200-1698944400@aftguild.org
SUMMARY:AFT General Meeting
DESCRIPTION:
URL:https://aftguild.org/event/aft-general-meeting-2
LOCATION:Miramar College\, 10440 Black Mountain Rd\,\, San Diego\, CA\, 92126\, United States
CATEGORIES:General Meetings,Miramar College
END:VEVENT
BEGIN:VEVENT
DTSTART;TZID=America/Los_Angeles:20231103T130000
DTEND;TZID=America/Los_Angeles:20231103T150000
DTSTAMP:20260421T164827
CREATED:20231031T205542Z
LAST-MODIFIED:20231031T205542Z
UID:17449-1699016400-1699023600@aftguild.org
SUMMARY:Retirement Planning Workshop
DESCRIPTION:San Diego City College\nMS 162/163 \nFind out all you need to know about retirement at this workshop sponsored by the Guild’s Retiree Chapter!\n\nSDCCD Classified professionals:  please note you can be granted PBL to attend this workshop (see Article 13.4.2 r. of our contract).
URL:https://aftguild.org/event/retirement-planning-workshop
LOCATION:City College\, 1313 Park Blvd\, San Diego\, CA\, 92101\, United States
CATEGORIES:City College
ATTACH;FMTTYPE=image/jpeg:https://aftguild.org/wp-content/uploads/2023/10/FA23-Retirement-Workshop.jpg
END:VEVENT
BEGIN:VEVENT
DTSTART;TZID=America/Los_Angeles:20231107T143000
DTEND;TZID=America/Los_Angeles:20231107T163000
DTSTAMP:20260421T164827
CREATED:20230823T203451Z
LAST-MODIFIED:20231031T204700Z
UID:16796-1699367400-1699374600@aftguild.org
SUMMARY:Utilizing Micro-affirmations
DESCRIPTION:Cuyamaca\, Room B-101
URL:https://aftguild.org/event/micro-affirmations
LOCATION:Cuyamaca College\, 900 Rancho San Diego Pkwy\, El Cajon\, CA\, 92019\, United States
CATEGORIES:Cuyamaca College
ATTACH;FMTTYPE=image/png:https://aftguild.org/wp-content/uploads/2023/08/11-03-23-Micro-Affirmations.png
END:VEVENT
BEGIN:VEVENT
DTSTART;TZID=America/Los_Angeles:20231109T180000
DTEND;TZID=America/Los_Angeles:20231109T210000
DTSTAMP:20260421T164827
CREATED:20231027T231152Z
LAST-MODIFIED:20231031T215224Z
UID:17421-1699552800-1699563600@aftguild.org
SUMMARY:AFT Guild Fall Gratitude Dinner
DESCRIPTION:AFT Guild Fall Gratitude DinnerMax 2. Member and one guest.\n					\n					\n						Price:\n							\n					\n					\n				Quantity(Required)Please enter a number from 1 to 2.Name(Required)\n                            \n                            \n                                                    First\n                                                    \n                                                \n                            \n                            \n                                                            Last\n                                                            \n                                                        \n                            \n                        Email(Required)\n                            \n                        Billing Address    \n                    \n                         \n                                        Street Address\n                                        \n                                   \n                                        Address Line 2\n                                        \n                                    \n                                    City\n                                    \n                                 \n                                        State / Province / Region\n                                        \n                                      \n                                    ZIP / Postal Code\n                                    \n                                \n                                        Country\n                                        AfghanistanAlbaniaAlgeriaAmerican SamoaAndorraAngolaAnguillaAntarcticaAntigua and BarbudaArgentinaArmeniaArubaAustraliaAustriaAzerbaijanBahamasBahrainBangladeshBarbadosBelarusBelgiumBelizeBeninBermudaBhutanBoliviaBonaire\, Sint Eustatius and SabaBosnia and HerzegovinaBotswanaBouvet IslandBrazilBritish Indian Ocean TerritoryBrunei DarussalamBulgariaBurkina FasoBurundiCabo VerdeCambodiaCameroonCanadaCayman IslandsCentral African RepublicChadChileChinaChristmas IslandCocos IslandsColombiaComorosCongoCongo\, Democratic Republic of theCook IslandsCosta RicaCroatiaCubaCuraçaoCyprusCzechiaCôte d'IvoireDenmarkDjiboutiDominicaDominican RepublicEcuadorEgyptEl SalvadorEquatorial GuineaEritreaEstoniaEswatiniEthiopiaFalkland IslandsFaroe IslandsFijiFinlandFranceFrench GuianaFrench PolynesiaFrench Southern TerritoriesGabonGambiaGeorgiaGermanyGhanaGibraltarGreeceGreenlandGrenadaGuadeloupeGuamGuatemalaGuernseyGuineaGuinea-BissauGuyanaHaitiHeard Island and McDonald IslandsHoly SeeHondurasHong KongHungaryIcelandIndiaIndonesiaIranIraqIrelandIsle of ManIsraelItalyJamaicaJapanJerseyJordanKazakhstanKenyaKiribatiKorea\, Democratic People's Republic ofKorea\, Republic ofKuwaitKyrgyzstanLao People's Democratic RepublicLatviaLebanonLesothoLiberiaLibyaLiechtensteinLithuaniaLuxembourgMacaoMadagascarMalawiMalaysiaMaldivesMaliMaltaMarshall IslandsMartiniqueMauritaniaMauritiusMayotteMexicoMicronesiaMoldovaMonacoMongoliaMontenegroMontserratMoroccoMozambiqueMyanmarNamibiaNauruNepalNetherlandsNew CaledoniaNew ZealandNicaraguaNigerNigeriaNiueNorfolk IslandNorth MacedoniaNorthern Mariana IslandsNorwayOmanPakistanPalauPalestine\, State ofPanamaPapua New GuineaParaguayPeruPhilippinesPitcairnPolandPortugalPuerto RicoQatarRomaniaRussian FederationRwandaRéunionSaint BarthélemySaint Helena\, Ascension and Tristan da CunhaSaint Kitts and NevisSaint LuciaSaint MartinSaint Pierre and MiquelonSaint Vincent and the GrenadinesSamoaSan MarinoSao Tome and PrincipeSaudi ArabiaSenegalSerbiaSeychellesSierra LeoneSingaporeSint MaartenSlovakiaSloveniaSolomon IslandsSomaliaSouth AfricaSouth Georgia and the South Sandwich IslandsSouth SudanSpainSri LankaSudanSurinameSvalbard and Jan MayenSwedenSwitzerlandSyria Arab RepublicTaiwanTajikistanTanzania\, the United Republic ofThailandTimor-LesteTogoTokelauTongaTrinidad and TobagoTunisiaTurkmenistanTurks and Caicos IslandsTuvaluTürkiyeUS Minor Outlying IslandsUgandaUkraineUnited Arab EmiratesUnited KingdomUnited StatesUruguayUzbekistanVanuatuVenezuelaViet NamVirgin Islands\, BritishVirgin Islands\, U.S.Wallis and FutunaWestern SaharaYemenZambiaZimbabweÅland Islands \n                                    \n                    \n                Total\n							\n						Credit CardCard Details\n					Cardholder Name
URL:https://aftguild.org/event/aft-guild-fall-gratitude-dinner
LOCATION:Punch Bowl Social\, 1485 E St.\, San Diego\, CA\, 92101
ATTACH;FMTTYPE=image/jpeg:https://aftguild.org/wp-content/uploads/2023/10/Fall-Gratitude-Dinner-2023.jpg
END:VEVENT
BEGIN:VEVENT
DTSTART;TZID=America/Los_Angeles:20231115T150000
DTEND;TZID=America/Los_Angeles:20231115T163000
DTSTAMP:20260421T164827
CREATED:20230823T201914Z
LAST-MODIFIED:20231031T214921Z
UID:16786-1700060400-1700065800@aftguild.org
SUMMARY:Retirement and Estate Planning
DESCRIPTION:Mesa\, College LRC 413
URL:https://aftguild.org/event/retirement-and-estate-planning
LOCATION:Mesa College\, 7250 Mesa College Dr\, San Diego\, CA\, 92111\, United States
CATEGORIES:Mesa College
ATTACH;FMTTYPE=image/jpeg:https://aftguild.org/wp-content/uploads/2023/10/11-15-23-Retirement-Financial-Planning.jpg
END:VEVENT
BEGIN:VEVENT
DTSTART;TZID=America/Los_Angeles:20231130T160000
DTEND;TZID=America/Los_Angeles:20231130T170000
DTSTAMP:20260421T164827
CREATED:20231031T181957Z
LAST-MODIFIED:20231031T181957Z
UID:17444-1701360000-1701363600@aftguild.org
SUMMARY:Student Debt Clinic
DESCRIPTION:
URL:https://aftguild.org/event/student-debt-clinic
LOCATION:Zoom
ATTACH;FMTTYPE=image/png:https://aftguild.org/wp-content/uploads/2023/10/Student-Debt-Clinic.png
END:VEVENT
BEGIN:VEVENT
DTSTART;TZID=America/Los_Angeles:20231205T160000
DTEND;TZID=America/Los_Angeles:20231205T170000
DTSTAMP:20260421T164827
CREATED:20230823T210748Z
LAST-MODIFIED:20231031T182135Z
UID:16800-1701792000-1701795600@aftguild.org
SUMMARY:Unemployment Office Hour
DESCRIPTION:
URL:https://aftguild.org/event/unemployment-office-hour
LOCATION:Zoom
CATEGORIES:Zoom
ATTACH;FMTTYPE=image/png:https://aftguild.org/wp-content/uploads/2023/08/Unemployment-Benefits-Office-Hour.png
END:VEVENT
BEGIN:VEVENT
DTSTART;TZID=America/Los_Angeles:20231207T150000
DTEND;TZID=America/Los_Angeles:20231207T170000
DTSTAMP:20260421T164827
CREATED:20230830T220644Z
LAST-MODIFIED:20230830T220644Z
UID:16826-1701961200-1701968400@aftguild.org
SUMMARY:AFT General Meeting
DESCRIPTION:
URL:https://aftguild.org/event/aft-general-meeting-3
LOCATION:City College\, 1313 Park Blvd\, San Diego\, CA\, 92101\, United States
CATEGORIES:City College,General Meetings
END:VEVENT
BEGIN:VEVENT
DTSTART;TZID=America/Los_Angeles:20231216T160000
DTEND;TZID=America/Los_Angeles:20231216T173000
DTSTAMP:20260421T164827
CREATED:20230920T162417Z
LAST-MODIFIED:20231208T040634Z
UID:17136-1702742400-1702747800@aftguild.org
SUMMARY:Gulls Hockey Winter Wonderland Teddy Bear Toss
DESCRIPTION:4-5:30 Tailgate; 6pm Game \nGulls Tickets Are Sold Out
URL:https://aftguild.org/event/gulls-hockey-winter-wonderland-teddy-bear-toss
LOCATION:CA
ATTACH;FMTTYPE=image/png:https://aftguild.org/wp-content/uploads/2023/10/winter-wonderland.png
END:VEVENT
BEGIN:VEVENT
DTSTART;TZID=America/Los_Angeles:20240201T150000
DTEND;TZID=America/Los_Angeles:20240201T170000
DTSTAMP:20260421T164827
CREATED:20230830T220721Z
LAST-MODIFIED:20230830T220721Z
UID:16828-1706799600-1706806800@aftguild.org
SUMMARY:AFT General Meeting
DESCRIPTION:
URL:https://aftguild.org/event/aft-general-meeting-4
LOCATION:North City Campus\, 8355 Aero Dr.\, San Diego\, 92123\, United States
CATEGORIES:General Meetings
END:VEVENT
BEGIN:VEVENT
DTSTART;VALUE=DATE:20240214
DTEND;VALUE=DATE:20240215
DTSTAMP:20260421T164827
CREATED:20240201T005823Z
LAST-MODIFIED:20240201T005823Z
UID:17843-1707868800-1707955199@aftguild.org
SUMMARY:Valentine's Day: Love our Union\, Love our Members Events:
DESCRIPTION:Continuing Education: 12-1:30pm at ECC Room 169 \nCity College: 11-1pm in D-121 \nDistrict Office: 12-1pm in DO 245 \nMesa: 11:00 am – 1:00 pm in LRC 435 \nMiramar: 1-2:30pm in M-110 \nCuyamaca: 9-10:30am in I207-208 \nGrossmont: 12-1:30pm in PVAC Lobby
URL:https://aftguild.org/event/valentines-day-love-our-union-love-our-members-events
LOCATION:CA
END:VEVENT
BEGIN:VEVENT
DTSTART;TZID=America/Los_Angeles:20240222T143000
DTEND;TZID=America/Los_Angeles:20240222T160000
DTSTAMP:20260421T164827
CREATED:20240201T004341Z
LAST-MODIFIED:20240201T004341Z
UID:17833-1708612200-1708617600@aftguild.org
SUMMARY:Wellness\, Self-Care & Sound Bath
DESCRIPTION:Room TBD
URL:https://aftguild.org/event/wellness-self-care-sound-bath
LOCATION:Mesa College\, 7250 Mesa College Dr\, San Diego\, CA\, 92111\, United States
CATEGORIES:Mesa College
END:VEVENT
BEGIN:VEVENT
DTSTART;TZID=America/Los_Angeles:20240301T120000
DTEND;TZID=America/Los_Angeles:20240301T131500
DTSTAMP:20260421T164827
CREATED:20240229T225614Z
LAST-MODIFIED:20240229T225614Z
UID:18280-1709294400-1709298900@aftguild.org
SUMMARY:Building Financial Wealth
DESCRIPTION:CE Mesa Multipurpose Room
URL:https://aftguild.org/event/building-financial-wealth
LOCATION:Mesa College\, 7250 Mesa College Dr\, San Diego\, CA\, 92111\, United States
CATEGORIES:Continuing Education,Mesa College
END:VEVENT
BEGIN:VEVENT
DTSTART;TZID=America/Los_Angeles:20240303T120000
DTEND;TZID=America/Los_Angeles:20240303T150000
DTSTAMP:20260421T164827
CREATED:20240229T230127Z
LAST-MODIFIED:20240229T230127Z
UID:18292-1709467200-1709478000@aftguild.org
SUMMARY:Leadership 101: Leading Restoratively
DESCRIPTION:
URL:https://aftguild.org/event/leadership-101-leading-restoratively
LOCATION:CA
END:VEVENT
BEGIN:VEVENT
DTSTART;TZID=America/Los_Angeles:20240307T150000
DTEND;TZID=America/Los_Angeles:20240307T170000
DTSTAMP:20260421T164827
CREATED:20230830T220751Z
LAST-MODIFIED:20230830T220751Z
UID:16830-1709823600-1709830800@aftguild.org
SUMMARY:AFT General Meeting
DESCRIPTION:
URL:https://aftguild.org/event/aft-general-meeting-5
LOCATION:Mesa College\, 7250 Mesa College Dr\, San Diego\, CA\, 92111\, United States
CATEGORIES:General Meetings,Mesa College
END:VEVENT
BEGIN:VEVENT
DTSTART;TZID=America/Los_Angeles:20240308T090000
DTEND;TZID=America/Los_Angeles:20240308T150000
DTSTAMP:20260421T164827
CREATED:20240229T225653Z
LAST-MODIFIED:20240229T225653Z
UID:18282-1709888400-1709910000@aftguild.org
SUMMARY:Tenure-Track Bootcamp
DESCRIPTION:MS 140
URL:https://aftguild.org/event/tenure-track-bootcamp-3
LOCATION:City College\, 1313 Park Blvd\, San Diego\, CA\, 92101\, United States
CATEGORIES:City College
END:VEVENT
BEGIN:VEVENT
DTSTART;TZID=America/Los_Angeles:20240313T130000
DTEND;TZID=America/Los_Angeles:20240313T143000
DTSTAMP:20260421T164827
CREATED:20240229T225020Z
LAST-MODIFIED:20240229T225020Z
UID:18270-1710334800-1710340200@aftguild.org
SUMMARY:City College Contract Q& A Session
DESCRIPTION:D-121
URL:https://aftguild.org/event/city-college-contract-q-a-session
LOCATION:City College\, 1313 Park Blvd\, San Diego\, CA\, 92101\, United States
CATEGORIES:City College
END:VEVENT
BEGIN:VEVENT
DTSTART;TZID=America/Los_Angeles:20240315T093000
DTEND;TZID=America/Los_Angeles:20240315T120000
DTSTAMP:20260421T164827
CREATED:20240201T005030Z
LAST-MODIFIED:20240201T005030Z
UID:17837-1710495000-1710504000@aftguild.org
SUMMARY:Communications Bootcamp
DESCRIPTION:Location TBD
URL:https://aftguild.org/event/communications-bootcamp
LOCATION:CA
END:VEVENT
BEGIN:VEVENT
DTSTART;TZID=America/Los_Angeles:20240315T093000
DTEND;TZID=America/Los_Angeles:20240315T120000
DTSTAMP:20260421T164827
CREATED:20240229T225747Z
LAST-MODIFIED:20240229T225747Z
UID:18284-1710495000-1710504000@aftguild.org
SUMMARY:Communications Bootcamp
DESCRIPTION:Griffin Gate
URL:https://aftguild.org/event/communications-bootcamp-2
LOCATION:Grossmont College\, 8800 Grossmont College Drive\, El Cajon\, CA\, 92020\, United States
CATEGORIES:Grossmont College
END:VEVENT
BEGIN:VEVENT
DTSTART;TZID=America/Los_Angeles:20240320T110000
DTEND;TZID=America/Los_Angeles:20240320T120000
DTSTAMP:20260421T164827
CREATED:20240229T225259Z
LAST-MODIFIED:20240229T225259Z
UID:18276-1710932400-1710936000@aftguild.org
SUMMARY:Grossmont Contract Q&A Session
DESCRIPTION:Building 36\, Room 138
URL:https://aftguild.org/event/grossmont-contract-qa-session
LOCATION:Grossmont College\, 8800 Grossmont College Drive\, El Cajon\, CA\, 92020\, United States
CATEGORIES:Grossmont College
END:VEVENT
BEGIN:VEVENT
DTSTART;VALUE=DATE:20240320
DTEND;VALUE=DATE:20240321
DTSTAMP:20260421T164827
CREATED:20240229T225824Z
LAST-MODIFIED:20240229T225824Z
UID:18286-1710892800-1710979199@aftguild.org
SUMMARY:Equitable Admin Practices: Microsoft Office Best Practices
DESCRIPTION:
URL:https://aftguild.org/event/equitable-admin-practices-microsoft-office-best-practices
LOCATION:CA
END:VEVENT
BEGIN:VEVENT
DTSTART;TZID=America/Los_Angeles:20240322T160000
DTEND;TZID=America/Los_Angeles:20240322T170000
DTSTAMP:20260421T164827
CREATED:20240229T230406Z
LAST-MODIFIED:20240229T230406Z
UID:18297-1711123200-1711126800@aftguild.org
SUMMARY:Unemployment Workshop- ZOOM
DESCRIPTION:ZOOM
URL:https://aftguild.org/event/unemployment-workshop-zoom
LOCATION:Zoom
END:VEVENT
BEGIN:VEVENT
DTSTART;TZID=America/Los_Angeles:20240404T150000
DTEND;TZID=America/Los_Angeles:20240404T170000
DTSTAMP:20260421T164827
CREATED:20230830T220825Z
LAST-MODIFIED:20230830T220825Z
UID:16832-1712242800-1712250000@aftguild.org
SUMMARY:AFT General Meeting
DESCRIPTION:
URL:https://aftguild.org/event/aft-general-meeting-6
LOCATION:Grossmont College\, 8800 Grossmont College Drive\, El Cajon\, CA\, 92020\, United States
CATEGORIES:General Meetings,Grossmont College
END:VEVENT
BEGIN:VEVENT
DTSTART;TZID=America/Los_Angeles:20240405T120000
DTEND;TZID=America/Los_Angeles:20240405T140000
DTSTAMP:20260421T164827
CREATED:20240229T230022Z
LAST-MODIFIED:20240229T230022Z
UID:18288-1712318400-1712325600@aftguild.org
SUMMARY:Boundaries: What\, Why\, and How
DESCRIPTION:Location TBD
URL:https://aftguild.org/event/boundaries-what-why-and-how
LOCATION:CA
END:VEVENT
END:VCALENDAR