BEGIN:VCALENDAR
VERSION:2.0
PRODID:-//The AFT Guild - ECPv6.15.17.1//NONSGML v1.0//EN
CALSCALE:GREGORIAN
METHOD:PUBLISH
X-WR-CALNAME:The AFT Guild
X-ORIGINAL-URL:https://aftguild.org
X-WR-CALDESC:Events for The AFT Guild
REFRESH-INTERVAL;VALUE=DURATION:PT1H
X-Robots-Tag:noindex
X-PUBLISHED-TTL:PT1H
BEGIN:VTIMEZONE
TZID:America/Los_Angeles
BEGIN:DAYLIGHT
TZOFFSETFROM:-0800
TZOFFSETTO:-0700
TZNAME:PDT
DTSTART:20210314T100000
END:DAYLIGHT
BEGIN:STANDARD
TZOFFSETFROM:-0700
TZOFFSETTO:-0800
TZNAME:PST
DTSTART:20211107T090000
END:STANDARD
BEGIN:DAYLIGHT
TZOFFSETFROM:-0800
TZOFFSETTO:-0700
TZNAME:PDT
DTSTART:20220313T100000
END:DAYLIGHT
BEGIN:STANDARD
TZOFFSETFROM:-0700
TZOFFSETTO:-0800
TZNAME:PST
DTSTART:20221106T090000
END:STANDARD
BEGIN:DAYLIGHT
TZOFFSETFROM:-0800
TZOFFSETTO:-0700
TZNAME:PDT
DTSTART:20230312T100000
END:DAYLIGHT
BEGIN:STANDARD
TZOFFSETFROM:-0700
TZOFFSETTO:-0800
TZNAME:PST
DTSTART:20231105T090000
END:STANDARD
BEGIN:DAYLIGHT
TZOFFSETFROM:-0800
TZOFFSETTO:-0700
TZNAME:PDT
DTSTART:20240310T100000
END:DAYLIGHT
BEGIN:STANDARD
TZOFFSETFROM:-0700
TZOFFSETTO:-0800
TZNAME:PST
DTSTART:20241103T090000
END:STANDARD
END:VTIMEZONE
BEGIN:VEVENT
DTSTART;TZID=America/Los_Angeles:20221006T150000
DTEND;TZID=America/Los_Angeles:20221006T170000
DTSTAMP:20260421T112108
CREATED:20220825T213907Z
LAST-MODIFIED:20221005T162311Z
UID:15899-1665068400-1665075600@aftguild.org
SUMMARY:AFT Guild Meeting - Thursday\, October 6th- 2022 San Diego Mesa College (10/05/2022)
DESCRIPTION:Dear AFT Guild Members\,\nOur next Union meeting will be held this Thursday\, October 6th beginning at 3:00pm at Mesa College in the Mesa Commons\, room MC-211 A/B.  There is parking available along the street in front of the MC building\, and there is also a parking structure as you enter the campus on the left hand side. \nWe will be continuing with our COVID precautions in order to gather this many people in one room: \n1) All Guild members wishing to attend will need to show proof of vaccination and booster (if eligible for the booster) to be admitted. \n2) Full masking will be required for the duration of the meeting.  Acceptable masks are: a KF-94\, KN-95\, N-95 or a double layer surgical+cloth mask.  We will have some KF-94 masks at the door if you need one. \nAttached is the tentative agenda for this Thursday’s meeting.  At this meeting we will be voting on: \n\nAFT Guild Positions on Statewide Propositions 1\, 26\, 27\, 28\, 29\, 30\, 31 and Local Measures A\, B\, C\, D\, H\, U\n$10k Contribution to the AFT National Disaster Relief Fund\nTransfer of $200k from General Fund to COPE Fund to Fund our Electoral Campaigns\n$5k Contribution in Support of Working Families IE in support of Paloma Aguirre for Imperial Beach Mayor\n$10k Contribution in Support of AFT Guild Member Judy Patacsil for Palomar CCD Board\n\nPlease let me know if you have any items you would like to see added to the agenda. \nHope to see you in person on Thursday! \nIn Solidarity\,\nJim\nJim Mahler\, President\n\nUnion Agenda October 2022
URL:https://aftguild.org/event/aft-guild-meeting-october-6th
LOCATION:San Diego Mesa College\, 7250 Mesa College Drive\, San Diego\,\, CA ..\, 92111-4998
CATEGORIES:General Meetings
END:VEVENT
BEGIN:VEVENT
DTSTART;TZID=America/Los_Angeles:20221103T150000
DTEND;TZID=America/Los_Angeles:20221103T170000
DTSTAMP:20260421T112108
CREATED:20220825T225155Z
LAST-MODIFIED:20221005T165148Z
UID:15909-1667487600-1667494800@aftguild.org
SUMMARY:AFT Guild Union Meeting Thursday\, November 3 - Grossmont College
DESCRIPTION:  \n \n 
URL:https://aftguild.org/event/aft-guild-general-meeting-november-3
LOCATION:Grossmont College\, 8800 Grossmont College Drive\, El Cajon\, CA\, 92020\, United States
CATEGORIES:General Meetings
END:VEVENT
BEGIN:VEVENT
DTSTART;TZID=America/Los_Angeles:20221201T150000
DTEND;TZID=America/Los_Angeles:20221201T170000
DTSTAMP:20260421T112108
CREATED:20220825T222324Z
LAST-MODIFIED:20220825T224958Z
UID:15917-1669906800-1669914000@aftguild.org
SUMMARY:AFT Guild  Meeting- Thursday December 1\, 2022 - Miramar College
DESCRIPTION:
URL:https://aftguild.org/event/aft-guild-general-meeting-thursday-december-1-miramar-college
LOCATION:Miramar College\, 10440 Black Mountain Rd\,\, San Diego\, CA\, 92126\, United States
CATEGORIES:General Meetings
END:VEVENT
BEGIN:VEVENT
DTSTART;TZID=America/Los_Angeles:20230131T080000
DTEND;TZID=America/Los_Angeles:20230131T170000
DTSTAMP:20260421T112108
CREATED:20230131T231525Z
LAST-MODIFIED:20230131T232538Z
UID:16272-1675152000-1675184400@aftguild.org
SUMMARY:AFT Guild Union Meeting: Thursday\, February 2nd - North City Center (02/01/2023)
DESCRIPTION:Dear AFT Guild Union Members\, \nI hope 2023 has been off to a good start for all of you! Just a friendly reminder that our first AFT Guild Union meeting of the semester will be held this Thursday\, February 2nd beginning at 3:00pm at our North City Center meeting location: North City Center\, 8355 Aero Dr.\, San Diego\, 92123. There is ample parking in the parking structure adjacent to the building\, on the south side. We will meet in rooms 101/102\, next to the lobby at the main entrance. \nProof of vaccination with booster will still be required\, masks will be optional but strongly encouraged. \nAttached is the tentative agenda for this Thursday’s meeting. We will be voting on a $4\,000 contribution from our COPE fund for the Democratic party’s fundraising dinner. Please let me know if you have any items you would like to see added to the agenda. \nHope to see you Thursday! \nIn Unity\,\nJim\nJim Mahler\, President
URL:https://aftguild.org/event/aft-guild-union-meeting-thursday-february-2nd-north-city-center-02-01-2023
END:VEVENT
BEGIN:VEVENT
DTSTART;TZID=America/Los_Angeles:20230202T150000
DTEND;TZID=America/Los_Angeles:20230202T170000
DTSTAMP:20260421T112108
CREATED:20220825T223331Z
LAST-MODIFIED:20231012T215032Z
UID:15920-1675350000-1675357200@aftguild.org
SUMMARY:AFT Guild Meeting - Thursday\, February 2\, 2023 - North City Center
DESCRIPTION:
URL:https://aftguild.org/event/aft-guild-meeting-thursday-february-2-2023-north-city-center
LOCATION:North City Campus\, 8355 Aero Dr.\, San Diego\, 92123\, United States
CATEGORIES:General Meetings
END:VEVENT
BEGIN:VEVENT
DTSTART;TZID=America/Los_Angeles:20230223T143000
DTEND;TZID=America/Los_Angeles:20230223T160000
DTSTAMP:20260421T112108
CREATED:20230222T042250Z
LAST-MODIFIED:20230222T042250Z
UID:16398-1677162600-1677168000@aftguild.org
SUMMARY:Wellness & Self-Care Strategies
DESCRIPTION:Mesa\, SB 212
URL:https://aftguild.org/event/wellness-self-care-strategies
LOCATION:Mesa College\, 7250 Mesa College Dr\, San Diego\, CA\, 92111\, United States
CATEGORIES:Mesa College
END:VEVENT
BEGIN:VEVENT
DTSTART;TZID=America/Los_Angeles:20230302T150000
DTEND;TZID=America/Los_Angeles:20230302T170000
DTSTAMP:20260421T112108
CREATED:20220825T224327Z
LAST-MODIFIED:20220825T224450Z
UID:15925-1677769200-1677776400@aftguild.org
SUMMARY:AFT Guild Meeting - Thursday\, March 2\, 2023 Cuyamaca College
DESCRIPTION:
URL:https://aftguild.org/event/aft-guild-meeting-thursday-march-2-2023-cuyamaca-college
LOCATION:Cuyamaca College\, 900 Rancho San Diego Pkwy\, El Cajon\, CA\, 92019\, United States
CATEGORIES:General Meetings
END:VEVENT
BEGIN:VEVENT
DTSTART;TZID=America/Los_Angeles:20230302T150000
DTEND;TZID=America/Los_Angeles:20230302T170000
DTSTAMP:20260421T112108
CREATED:20230301T163422Z
LAST-MODIFIED:20230301T163422Z
UID:16434-1677769200-1677776400@aftguild.org
SUMMARY:AFT Guild Union Meeting: Thursday\, March 2nd - Cuyamaca College (03/01/2023)
DESCRIPTION:Dear AFT Guild Members\, \nOur next AFT Guild Union meeting will be held this Thursday\, March 2nd beginning at 3:00pm at Cuyamaca College\, 900 Rancho San Diego Pkwy.  We will meet in the Student Center I-Building\, in rooms I-207/208.  There is ample parking just east of the G building.  See campus map. \nProof of vaccination with booster will still be required\, masks will be optional but strongly encouraged.  We will also be having a Zoom webinar option where you will be able to listen to the meeting\, ask questions in the chat\, and vote. \nAttached is the tentative agenda for this Thursday’s meeting.  We will be voting on a $1\,000 contribution to the AFT National Adjunct/Contingent Faculty Caucus.  Please let me know if you have any items you would like to see added to the agenda. \nLastly\, we will be having a post-meeting get together at: Creative Creature Brewing Company/Urbn Pizza\, 110 Magnolia Ave\, El Cajon.  Plenty of food and non-alcoholic drink selections are also available.  Please join us if you can! \nHope to see you Thursday! \nIn Solidarity\,\nJim\nJim Mahler\, President\nAFT Guild\, Local 1931\n\nUnion Agenda March 2023
URL:https://aftguild.org/event/aft-guild-union-meeting-thursday-march-2nd-cuyamaca-college-03-01-2023
LOCATION:Cuyamaca College\, 900 Rancho San Diego Pkwy\, El Cajon\, CA\, 92019\, United States
CATEGORIES:Cuyamaca College,General Meetings
END:VEVENT
BEGIN:VEVENT
DTSTART;TZID=America/Los_Angeles:20230310T090000
DTEND;TZID=America/Los_Angeles:20230310T120000
DTSTAMP:20260421T112108
CREATED:20230222T042415Z
LAST-MODIFIED:20230303T033128Z
UID:16400-1678438800-1678449600@aftguild.org
SUMMARY:Communication Bootcamp
DESCRIPTION:Grossmont\, Griffin Gate
URL:https://aftguild.org/event/communication-bootcamp
LOCATION:Grossmont College\, 8800 Grossmont College Drive\, El Cajon\, CA\, 92020\, United States
CATEGORIES:Grossmont College
END:VEVENT
BEGIN:VEVENT
DTSTART;TZID=America/Los_Angeles:20230314T130000
DTEND;TZID=America/Los_Angeles:20230314T140000
DTSTAMP:20260421T112108
CREATED:20230228T184301Z
LAST-MODIFIED:20230303T033203Z
UID:16432-1678798800-1678802400@aftguild.org
SUMMARY:Women and Oppression
DESCRIPTION:LRC
URL:https://aftguild.org/event/women-and-oppression
LOCATION:Mesa College\, 7250 Mesa College Dr\, San Diego\, CA\, 92111\, United States
CATEGORIES:Mesa College
END:VEVENT
BEGIN:VEVENT
DTSTART;TZID=America/Los_Angeles:20230317T090000
DTEND;TZID=America/Los_Angeles:20230317T140000
DTSTAMP:20260421T112108
CREATED:20230222T042523Z
LAST-MODIFIED:20230222T042523Z
UID:16402-1679043600-1679061600@aftguild.org
SUMMARY:Tenure-Track Bootcamp
DESCRIPTION:City\, MS 140
URL:https://aftguild.org/event/tenure-track-bootcamp
LOCATION:City College\, 1313 Park Blvd\, San Diego\, CA\, 92101\, United States
CATEGORIES:City College
END:VEVENT
BEGIN:VEVENT
DTSTART;TZID=America/Los_Angeles:20230322T110000
DTEND;TZID=America/Los_Angeles:20230322T120000
DTSTAMP:20260421T112108
CREATED:20230228T183845Z
LAST-MODIFIED:20230228T183929Z
UID:16430-1679482800-1679486400@aftguild.org
SUMMARY:An Episodic History of Women\, Gender\, and Sexuality in the United States
DESCRIPTION:
URL:https://aftguild.org/event/an-episodic-history-of-women-gender-and-sexuality-in-the-united-states
LOCATION:Zoom
END:VEVENT
BEGIN:VEVENT
DTSTART;TZID=America/Los_Angeles:20230412T143000
DTEND;TZID=America/Los_Angeles:20230412T153000
DTSTAMP:20260421T112108
CREATED:20230411T161414Z
LAST-MODIFIED:20230411T161456Z
UID:16528-1681309800-1681313400@aftguild.org
SUMMARY:Continuing Education Pizza Party
DESCRIPTION:Please join us on Wednesday\, April 12th from 2:30pm at ECC in Room 169 for pizza and community!
URL:https://aftguild.org/event/continuing-education-pizza-party
END:VEVENT
BEGIN:VEVENT
DTSTART;TZID=America/Los_Angeles:20230414T120000
DTEND;TZID=America/Los_Angeles:20230414T130000
DTSTAMP:20260421T112108
CREATED:20230411T161812Z
LAST-MODIFIED:20230411T161829Z
UID:16530-1681473600-1681477200@aftguild.org
SUMMARY:Campus Coordinator Information Sessions
DESCRIPTION:Join us to learn more about our new Liaison Network and meet other colleagues interested in serving as Campus Coordinators! \nJoin Zoom Meeting\nhttps://us02web.zoom.us/j/81500227095?pwd=cFNNc1Y2RENmYTFUaTE1SGFsNWRSUT09 \nMeeting ID: 815 0022 7095\nPasscode: 262107\nOne tap mobile\n+13602095623\,\,81500227095#\,\,\,\,*262107# US
URL:https://aftguild.org/event/campus-coordinator-information-sessions
LOCATION:Zoom
CATEGORIES:Zoom
END:VEVENT
BEGIN:VEVENT
DTSTART;TZID=America/Los_Angeles:20230414T143000
DTEND;TZID=America/Los_Angeles:20230414T160000
DTSTAMP:20260421T112108
CREATED:20230222T042630Z
LAST-MODIFIED:20230222T042630Z
UID:16404-1681482600-1681488000@aftguild.org
SUMMARY:What is Shared Governance
DESCRIPTION:Location TBD
URL:https://aftguild.org/event/what-is-shared-governance
END:VEVENT
BEGIN:VEVENT
DTSTART;TZID=America/Los_Angeles:20230415T120000
DTEND;TZID=America/Los_Angeles:20230415T160000
DTSTAMP:20260421T112108
CREATED:20230406T234736Z
LAST-MODIFIED:20230406T234736Z
UID:16512-1681560000-1681574400@aftguild.org
SUMMARY:Carnival for Climate
DESCRIPTION:
URL:https://aftguild.org/event/carnival-for-climate
LOCATION:Centro Cultural de la Raza in Balboa Park\, 2004 Park Blvd\, San Diego\, CA\, 92111\, United States
END:VEVENT
BEGIN:VEVENT
DTSTART;TZID=America/Los_Angeles:20230418T120000
DTEND;TZID=America/Los_Angeles:20230418T130000
DTSTAMP:20260421T112108
CREATED:20230411T162026Z
LAST-MODIFIED:20230411T162026Z
UID:16532-1681819200-1681822800@aftguild.org
SUMMARY:Part-Time Faculty Information Session
DESCRIPTION:Please join us (and invite your part-time colleagues) for an opportunity to learn about our union\, ask questions and build community!\n\nJoin Zoom Meeting\nhttps://us02web.zoom.us/j/84813943088?pwd=TTRaZnpQYUN4dHpIQWxrczZMUk9rdz09 \nMeeting ID: 848 1394 3088\nPasscode: 410468\nOne tap mobile\n+16694449171\,\,84813943088#\,\,\,\,*410468# US
URL:https://aftguild.org/event/part-time-faculty-information-session
LOCATION:Zoom
CATEGORIES:Zoom
END:VEVENT
BEGIN:VEVENT
DTSTART;TZID=America/Los_Angeles:20230419T130000
DTEND;TZID=America/Los_Angeles:20230419T140000
DTSTAMP:20260421T112108
CREATED:20230411T162128Z
LAST-MODIFIED:20230411T162138Z
UID:16534-1681909200-1681912800@aftguild.org
SUMMARY:Cuyamaca Pizza Party
DESCRIPTION:Please join us on Wednesday\, April 19th from 1-2pm in G-301A for pizza and community!
URL:https://aftguild.org/event/cuyamaca-pizza-party
LOCATION:Cuyamaca College\, 900 Rancho San Diego Pkwy\, El Cajon\, CA\, 92019\, United States
CATEGORIES:Cuyamaca College
END:VEVENT
BEGIN:VEVENT
DTSTART;VALUE=DATE:20230420
DTEND;VALUE=DATE:20230421
DTSTAMP:20260421T112108
CREATED:20230411T162334Z
LAST-MODIFIED:20230411T162334Z
UID:16536-1681948800-1682035199@aftguild.org
SUMMARY:Miramar Member Pizza Party
DESCRIPTION:Join us on Thursday\, April 20th for Pizza and Community!
URL:https://aftguild.org/event/miramar-member-pizza-party
LOCATION:Miramar College\, 10440 Black Mountain Rd\,\, San Diego\, CA\, 92126\, United States
CATEGORIES:Miramar College
END:VEVENT
BEGIN:VEVENT
DTSTART;TZID=America/Los_Angeles:20230421T093000
DTEND;TZID=America/Los_Angeles:20230421T150000
DTSTAMP:20260421T112108
CREATED:20230222T042720Z
LAST-MODIFIED:20230222T042720Z
UID:16406-1682069400-1682089200@aftguild.org
SUMMARY:Scholars Day: Mini-conference - The Upside of Failure
DESCRIPTION:Mesa\, G-102
URL:https://aftguild.org/event/scholars-day-mini-conference-the-upside-of-failure
LOCATION:Mesa College\, 7250 Mesa College Dr\, San Diego\, CA\, 92111\, United States
CATEGORIES:Mesa College
END:VEVENT
BEGIN:VEVENT
DTSTART;TZID=America/Los_Angeles:20230503T080000
DTEND;TZID=America/Los_Angeles:20230503T170000
DTSTAMP:20260421T112108
CREATED:20230503T234619Z
LAST-MODIFIED:20230503T234619Z
UID:16646-1683100800-1683133200@aftguild.org
SUMMARY:AFT Guild Union Meeting: Thursday\, May 4th - César Chávez Campus (05/03/2023)
DESCRIPTION:Dear AFT Guild Members\, \nOur last AFT Guild Union meeting of this academic year will be held this Thursday\, May 4th\, beginning at 3:00pm on the rooftop of the César Chávez Center.  \nThe address is 1901 Main Street and there are two levels of parking inside the building.  It’s a little tricky to find the entrance from the street if you have never been there before.  (See the attached photo below–enter the parking structure where the yellow star is.)  Once you park\, take the elevator up to the third floor\, and then follow the signs to the roof entrance. \nAttached is the tentative agenda for this Thursday’s meeting.  We will be voting on a $1\,000 donation to the Mesa College Classified Professionals “ClassiCon” conference.  Please let me know if you have any items you would like to see added to the agenda. \nLastly\, we will be having a post-meeting get together at: Attitude Brewery\, 1985 National Ave\, San Diego\, 92113 (one block from our meeting).  They have a full menu including plenty of food and non-alcoholic drink selections.  Please join us if you can! \nHope to see you Thursday!\nIn Solidarity\,\nJim\nJim Mahler\, President\nAFT Guild\, Local 1931 \nUnion Agenda May 2023
URL:https://aftguild.org/event/aft-guild-union-meeting-thursday-may-4th-cesar-chavez-campus-05-03-2023
CATEGORIES:General Meetings
END:VEVENT
BEGIN:VEVENT
DTSTART;TZID=America/Los_Angeles:20230505T130000
DTEND;TZID=America/Los_Angeles:20230505T140000
DTSTAMP:20260421T112108
CREATED:20230411T162448Z
LAST-MODIFIED:20230411T162448Z
UID:16538-1683291600-1683295200@aftguild.org
SUMMARY:Know Your Rights: AFT Guild\, Local 1931 Union 101
DESCRIPTION:Join us to learn more about your rights as a union member!
URL:https://aftguild.org/event/know-your-rights-aft-guild-local-1931-union-101
LOCATION:Zoom
CATEGORIES:Zoom
END:VEVENT
BEGIN:VEVENT
DTSTART;TZID=America/Los_Angeles:20230908T090000
DTEND;TZID=America/Los_Angeles:20230908T110000
DTSTAMP:20260421T112108
CREATED:20230823T190642Z
LAST-MODIFIED:20230823T190713Z
UID:16770-1694163600-1694170800@aftguild.org
SUMMARY:Landing an Interview: How to make your CV stand out
DESCRIPTION:
URL:https://aftguild.org/event/landing-an-interview-how-to-make-your-cv-stand-out
END:VEVENT
BEGIN:VEVENT
DTSTART;TZID=America/Los_Angeles:20230913T160000
DTEND;TZID=America/Los_Angeles:20230913T173000
DTSTAMP:20260421T112108
CREATED:20230823T190806Z
LAST-MODIFIED:20230823T190806Z
UID:16773-1694620800-1694626200@aftguild.org
SUMMARY:Part-time Faculty Orientation/Info Session
DESCRIPTION:
URL:https://aftguild.org/event/part-time-faculty-orientation-info-session
LOCATION:Zoom
END:VEVENT
BEGIN:VEVENT
DTSTART;TZID=America/Los_Angeles:20230919T100000
DTEND;TZID=America/Los_Angeles:20230919T140000
DTSTAMP:20260421T112108
CREATED:20230920T161323Z
LAST-MODIFIED:20230920T161323Z
UID:17124-1695117600-1695132000@aftguild.org
SUMMARY:Pizza Party
DESCRIPTION:M-110
URL:https://aftguild.org/event/pizza-party
LOCATION:Miramar College\, 10440 Black Mountain Rd\,\, San Diego\, CA\, 92126\, United States
CATEGORIES:Miramar College
END:VEVENT
BEGIN:VEVENT
DTSTART;TZID=America/Los_Angeles:20230922T113000
DTEND;TZID=America/Los_Angeles:20230922T143000
DTSTAMP:20260421T112108
CREATED:20230823T201359Z
LAST-MODIFIED:20230823T201359Z
UID:16778-1695382200-1695393000@aftguild.org
SUMMARY:New Hire Luncheon
DESCRIPTION:Mesa MC211A/B
URL:https://aftguild.org/event/new-hire-luncheon
LOCATION:Mesa College\, 7250 Mesa College Dr\, San Diego\, CA\, 92111\, United States
CATEGORIES:Mesa College
END:VEVENT
BEGIN:VEVENT
DTSTART;TZID=America/Los_Angeles:20230926T123000
DTEND;TZID=America/Los_Angeles:20230926T140000
DTSTAMP:20260421T112108
CREATED:20230920T161429Z
LAST-MODIFIED:20230920T161429Z
UID:17126-1695731400-1695736800@aftguild.org
SUMMARY:Pizza Party
DESCRIPTION:D-121
URL:https://aftguild.org/event/pizza-party-2
LOCATION:City College\, 1313 Park Blvd\, San Diego\, CA\, 92101\, United States
CATEGORIES:City College
END:VEVENT
BEGIN:VEVENT
DTSTART;TZID=America/Los_Angeles:20231004T120000
DTEND;TZID=America/Los_Angeles:20231004T140000
DTSTAMP:20260421T112108
CREATED:20230920T161506Z
LAST-MODIFIED:20230920T161506Z
UID:17128-1696420800-1696428000@aftguild.org
SUMMARY:Picnic in the Quad
DESCRIPTION:
URL:https://aftguild.org/event/picnic-in-the-quad
LOCATION:Mesa College\, 7250 Mesa College Dr\, San Diego\, CA\, 92111\, United States
CATEGORIES:Mesa College
END:VEVENT
BEGIN:VEVENT
DTSTART;TZID=America/Los_Angeles:20231004T173000
DTEND;TZID=America/Los_Angeles:20231004T190000
DTSTAMP:20260421T112108
CREATED:20230823T203210Z
LAST-MODIFIED:20230823T203210Z
UID:16790-1696440600-1696446000@aftguild.org
SUMMARY:Know your Rights: Your Contract 101
DESCRIPTION:
URL:https://aftguild.org/event/know-your-rights-your-contract-101
LOCATION:Zoom
CATEGORIES:Zoom
END:VEVENT
BEGIN:VEVENT
DTSTART;TZID=America/Los_Angeles:20231005T150000
DTEND;TZID=America/Los_Angeles:20231005T170000
DTSTAMP:20260421T112108
CREATED:20230830T220528Z
LAST-MODIFIED:20230830T220528Z
UID:16822-1696518000-1696525200@aftguild.org
SUMMARY:AFT General Meeting
DESCRIPTION:
URL:https://aftguild.org/event/aft-general-meeting
LOCATION:Cuyamaca College\, 900 Rancho San Diego Pkwy\, El Cajon\, CA\, 92019\, United States
CATEGORIES:Cuyamaca College,General Meetings
END:VEVENT
END:VCALENDAR