BEGIN:VCALENDAR
VERSION:2.0
PRODID:-//The AFT Guild - ECPv6.15.17.1//NONSGML v1.0//EN
CALSCALE:GREGORIAN
METHOD:PUBLISH
X-ORIGINAL-URL:https://aftguild.org
X-WR-CALDESC:Events for The AFT Guild
REFRESH-INTERVAL;VALUE=DURATION:PT1H
X-Robots-Tag:noindex
X-PUBLISHED-TTL:PT1H
BEGIN:VTIMEZONE
TZID:America/Los_Angeles
BEGIN:DAYLIGHT
TZOFFSETFROM:-0800
TZOFFSETTO:-0700
TZNAME:PDT
DTSTART:20180311T100000
END:DAYLIGHT
BEGIN:STANDARD
TZOFFSETFROM:-0700
TZOFFSETTO:-0800
TZNAME:PST
DTSTART:20181104T090000
END:STANDARD
BEGIN:DAYLIGHT
TZOFFSETFROM:-0800
TZOFFSETTO:-0700
TZNAME:PDT
DTSTART:20190310T100000
END:DAYLIGHT
BEGIN:STANDARD
TZOFFSETFROM:-0700
TZOFFSETTO:-0800
TZNAME:PST
DTSTART:20191103T090000
END:STANDARD
BEGIN:DAYLIGHT
TZOFFSETFROM:-0800
TZOFFSETTO:-0700
TZNAME:PDT
DTSTART:20200308T100000
END:DAYLIGHT
BEGIN:STANDARD
TZOFFSETFROM:-0700
TZOFFSETTO:-0800
TZNAME:PST
DTSTART:20201101T090000
END:STANDARD
BEGIN:DAYLIGHT
TZOFFSETFROM:-0800
TZOFFSETTO:-0700
TZNAME:PDT
DTSTART:20210314T100000
END:DAYLIGHT
BEGIN:STANDARD
TZOFFSETFROM:-0700
TZOFFSETTO:-0800
TZNAME:PST
DTSTART:20211107T090000
END:STANDARD
END:VTIMEZONE
BEGIN:VEVENT
DTSTART;TZID=America/Los_Angeles:20190928T103000
DTEND;TZID=America/Los_Angeles:20190928T113000
DTSTAMP:20260421T011439
CREATED:20190906T132047Z
LAST-MODIFIED:20190906T132620Z
UID:12155-1569666600-1569670200@aftguild.org
SUMMARY:Chicano Park Tour
DESCRIPTION:Dear AFT Guild Members\, \n  \nAs a benefit of your Guild membership\, we have scheduled tours of Chicano Park with renown Chicano artist\, Mario Torero.  We will have the opportunity to tour the numerous murals and learn about the little-known history of the local Chicano movement of the early 1970s.  Afterward\, you are welcome to have lunch at Mariscos el Pulpo in Barrio Logan (be sure to bring dinero for lunch!). \nSince there are only have 20 spaces available per tour\, we are scheduling these on three different Saturdays:  September 14th\, September 28th\, and October 5th.  Tours are from 10:30am-11:30am.  Each AFT Guild member can bring one guest (guests who are eligible for AFT Membership must be an AFT member to attend). \nThis is a unique opportunity to experience living art history\, recall the Chicano civil rights movement\, and understand how a culture uses visual narrative to assert and preserve its identity.  Tickets are only $12.50 each and can be purchased here:  https://aftchicanoparktour.brownpapertickets.com \nHope to see you there!\nJim\nEl sindicato hace la fuerza!\nChicanoPark.2
URL:https://aftguild.org/event/chicano-park-tour-2
LOCATION:CA
CATEGORIES:Community Events
END:VEVENT
BEGIN:VEVENT
DTSTART;TZID=America/Los_Angeles:20191002T113000
DTEND;TZID=America/Los_Angeles:20191002T121500
DTSTAMP:20260421T011439
CREATED:20190919T225422Z
LAST-MODIFIED:20190919T225422Z
UID:12198-1570015800-1570018500@aftguild.org
SUMMARY:Ice Cream Social
DESCRIPTION:Staff Lounge
URL:https://aftguild.org/event/ice-cream-social-46
LOCATION:Cesar Chavez Campus\, 1960 National Ave\, San Diego\, CA\, 92113\, United States
CATEGORIES:Community Events
END:VEVENT
BEGIN:VEVENT
DTSTART;TZID=America/Los_Angeles:20191002T133000
DTEND;TZID=America/Los_Angeles:20191002T150000
DTSTAMP:20260421T011439
CREATED:20190919T225632Z
LAST-MODIFIED:20190919T225701Z
UID:12200-1570023000-1570028400@aftguild.org
SUMMARY:Ice Cream Social
DESCRIPTION:A-105 (Staff Lounge)
URL:https://aftguild.org/event/ice-cream-social-47
LOCATION:City College\, 1313 Park Blvd\, San Diego\, CA\, 92101\, United States
CATEGORIES:Community Events
END:VEVENT
BEGIN:VEVENT
DTSTART;TZID=America/Los_Angeles:20191003T150000
DTEND;TZID=America/Los_Angeles:20191003T163000
DTSTAMP:20260421T011439
CREATED:20191002T125756Z
LAST-MODIFIED:20191002T125756Z
UID:12255-1570114800-1570120200@aftguild.org
SUMMARY:AFT Guild Union Meeting this Thursday\, October 3rd - City College
DESCRIPTION:Dear AFT Guild Members\, \nOur next AFT Guild Union Meeting will be held this Thursday\, October 3rd beginning at 3:00pm at City College\, in the MS building which is on the corner of 16th and C Streets downtown.  There is a parking structure in the building.  We will meet in room MS-140. \nAttached is the tentative agenda for this Thursday’s meeting.  Please let me know if you have any items you would like to see added to the agenda. \nHope to see you Thursday! \nIn Unity\, \nJim \nJim Mahler\, President\nAFT Guild\, Local 1931 \nAFT Guild Local 1931 Member Discipline Policy Updated Oct 3 2019
URL:https://aftguild.org/event/aft-guild-union-meeting-this-thursday-october-3rd-city-college
LOCATION:City College\, 1313 Park Blvd\, San Diego\, CA\, 92101\, United States
CATEGORIES:General Meetings
END:VEVENT
BEGIN:VEVENT
DTSTART;TZID=America/Los_Angeles:20191005T103000
DTEND;TZID=America/Los_Angeles:20191005T113000
DTSTAMP:20260421T011439
CREATED:20190906T132359Z
LAST-MODIFIED:20190906T132359Z
UID:12159-1570271400-1570275000@aftguild.org
SUMMARY:Chicano Park Tour
DESCRIPTION:Dear AFT Guild Members\, \nAs a benefit of your Guild membership\, we have scheduled tours of Chicano Park with renown Chicano artist\, Mario Torero.  We will have the opportunity to tour the numerous murals and learn about the little-known history of the local Chicano movement of the early 1970s.  Afterward\, you are welcome to have lunch at Mariscos el Pulpo in Barrio Logan (be sure to bring dinero for lunch!). \nSince there are only have 20 spaces available per tour\, we are scheduling these on three different Saturdays:  September 14th\, September 28th\, and October 5th.  Tours are from 10:30am-11:30am.  Each AFT Guild member can bring one guest (guests who are eligible for AFT Membership must be an AFT member to attend). \nThis is a unique opportunity to experience living art history\, recall the Chicano civil rights movement\, and understand how a culture uses visual narrative to assert and preserve its identity.  Tickets are only $12.50 each and can be purchased here:  https://aftchicanoparktour.brownpapertickets.com \nHope to see you there!\nJim\nEl sindicato hace la fuerza! \nChicanoPark.2
URL:https://aftguild.org/event/chicano-park-tour-3
LOCATION:CA
CATEGORIES:Community Events
END:VEVENT
BEGIN:VEVENT
DTSTART;TZID=America/Los_Angeles:20191010T113000
DTEND;TZID=America/Los_Angeles:20191010T121500
DTSTAMP:20260421T011439
CREATED:20190919T233137Z
LAST-MODIFIED:20190919T233440Z
UID:12214-1570707000-1570709700@aftguild.org
SUMMARY:Ice Cream Social
DESCRIPTION:Faculty/Staff Lounge
URL:https://aftguild.org/event/ice-cream-social-53
LOCATION:Mid-City Center\, 3792 Fairmount Ave.\, San Diego\, CA\, 92105\, United States
CATEGORIES:Community Events
END:VEVENT
BEGIN:VEVENT
DTSTART;TZID=America/Los_Angeles:20191010T133000
DTEND;TZID=America/Los_Angeles:20191010T150000
DTSTAMP:20260421T011439
CREATED:20190919T225939Z
LAST-MODIFIED:20191005T185954Z
UID:12202-1570714200-1570719600@aftguild.org
SUMMARY:Ice Cream Social
DESCRIPTION:L-200 (Facilities Break Room)
URL:https://aftguild.org/event/ice-cream-social-48
LOCATION:Mesa College\, 7250 Mesa College Dr\, San Diego\, CA\, 92111\, United States
CATEGORIES:Community Events,Mesa College
END:VEVENT
BEGIN:VEVENT
DTSTART;TZID=America/Los_Angeles:20191025T100000
DTEND;TZID=America/Los_Angeles:20191025T140000
DTSTAMP:20260421T011439
CREATED:20191005T183423Z
LAST-MODIFIED:20191005T183602Z
UID:12282-1571997600-1572012000@aftguild.org
SUMMARY:FACCC/CFT Legislative Advocacy Forum at Mesa College\, G-101 -10/25
DESCRIPTION:Meet in Room G-101\nA conversation on significant new policy changes and initiatives from Sacramento that affect our community colleges and students .\nSD leg event flyer final
URL:https://aftguild.org/event/faccc-cft-legislative-advocacy-forum-at-mesa-college-g-101-10-25-2
LOCATION:Mesa College\, 7250 Mesa College Dr\, San Diego\, CA\, 92111\, United States
CATEGORIES:General Meetings,Mesa College
END:VEVENT
BEGIN:VEVENT
DTSTART;TZID=America/Los_Angeles:20191026T080000
DTEND;TZID=America/Los_Angeles:20191026T120000
DTSTAMP:20260421T011439
CREATED:20191018T010746Z
LAST-MODIFIED:20191018T010830Z
UID:12347-1572076800-1572091200@aftguild.org
SUMMARY:AFT MEMBER HIKE - Saturday\, October 26
DESCRIPTION:AFT Hike_10-26-19
URL:https://aftguild.org/event/aft-member-hike-saturday-october-26
LOCATION:Mission Trails Regional Park\, 2 Father Junipero Serra Trail\, San Diego\, CA\, 92111\, United States
CATEGORIES:Community Events
END:VEVENT
BEGIN:VEVENT
DTSTART;TZID=America/Los_Angeles:20191030T113000
DTEND;TZID=America/Los_Angeles:20191030T121500
DTSTAMP:20260421T011439
CREATED:20190919T230216Z
LAST-MODIFIED:20190919T230216Z
UID:12204-1572435000-1572437700@aftguild.org
SUMMARY:Ice Cream Social
DESCRIPTION:Faculty/Staff Lounge
URL:https://aftguild.org/event/ice-cream-social-49
LOCATION:West City Center\, 3249 Fordham St\, San Diego\, CA\, 92110\, United States
CATEGORIES:Community Events
END:VEVENT
BEGIN:VEVENT
DTSTART;TZID=America/Los_Angeles:20191030T133000
DTEND;TZID=America/Los_Angeles:20191030T143000
DTSTAMP:20260421T011439
CREATED:20190919T231029Z
LAST-MODIFIED:20191005T185732Z
UID:12206-1572442200-1572445800@aftguild.org
SUMMARY:Ice Cream Social
DESCRIPTION:Rm 245
URL:https://aftguild.org/event/ice-cream-social-50
LOCATION:San Diego Community Colleges District Office\, 3375 Camino del Rio South\, San Diego\, CA\, 92108\, United States
CATEGORIES:Community Events,SDCCD District Office
END:VEVENT
BEGIN:VEVENT
DTSTART;TZID=America/Los_Angeles:20191031T124500
DTEND;TZID=America/Los_Angeles:20191031T133000
DTSTAMP:20260421T011439
CREATED:20190919T231337Z
LAST-MODIFIED:20191005T185619Z
UID:12209-1572525900-1572528600@aftguild.org
SUMMARY:Ice Cream Social
DESCRIPTION:Faculty/Staff Lounge
URL:https://aftguild.org/event/ice-cream-social-51
LOCATION:Educational Cultural Complex\, 4343 Ocean View Blvd.\, San Diego\, California\, 92113
CATEGORIES:Community Events,Continuing Education
END:VEVENT
BEGIN:VEVENT
DTSTART;TZID=America/Los_Angeles:20191031T143000
DTEND;TZID=America/Los_Angeles:20191031T151500
DTSTAMP:20260421T011439
CREATED:20190919T234120Z
LAST-MODIFIED:20191005T185503Z
UID:12217-1572532200-1572534900@aftguild.org
SUMMARY:Ice Cream Social
DESCRIPTION:North Conference Room
URL:https://aftguild.org/event/ice-cream-social-54
LOCATION:DSC/College Police\, 1536 Frazee Road\, San Diego\, CA\,  92108\, United States
CATEGORIES:College Police,Community Events
END:VEVENT
BEGIN:VEVENT
DTSTART;TZID=America/Los_Angeles:20191107T150000
DTEND;TZID=America/Los_Angeles:20191107T163000
DTSTAMP:20260421T011439
CREATED:20190826T175430Z
LAST-MODIFIED:20191106T032319Z
UID:12073-1573138800-1573144200@aftguild.org
SUMMARY:AFT Guild Union Meeting
DESCRIPTION:Dear AFT Guild Union Members\, \n  \nOur next AFT Guild Union Meeting will be held this Thursday\, November 7th\, beginning at 3:00pm at Grossmont College\, in building 60\, the Griffin Center\, room 180 (south end of building).  There is ample parking in the parking structure northeast of the building\, and also in the parking lot directly south of the building. \nAttached is the tentative agenda for this Thursday’s meeting.  Please let me know if you have any items you would like to see added to the agenda. \n  \nHope to see you Thursday! \nIn Unity\,\nJim \nJim Mahler\, President\nAFT Guild\, Local 1931 \n 
URL:https://aftguild.org/event/aft-guild-union-meeting-3
LOCATION:Grossmont College\, 8800 Grossmont College Drive\, El Cajon\, CA\, 92020\, United States
CATEGORIES:General Meetings,Grossmont College
END:VEVENT
BEGIN:VEVENT
DTSTART;TZID=America/Los_Angeles:20191120T173000
DTEND;TZID=America/Los_Angeles:20191120T193000
DTSTAMP:20260421T011439
CREATED:20191118T231252Z
LAST-MODIFIED:20191120T222030Z
UID:12443-1574271000-1574278200@aftguild.org
SUMMARY:CANCELLED: AFT Guild Happy Hour and Presidential Primary Endorsement discussion 11/20\, 5:30-7:30
DESCRIPTION:Due to the fact that the venue we were scheduled at was outdoors\, and since it’s supposed to be raining pretty heavily at that time\, we are canceling this event for tomorrow. \nHowever\, we will re-schedule this forum to immediately follow our next AFT Guild Union Meeting at Mesa College on December 5th with the forum beginning at 4:45pm.  Hope you can make it then! \nIn Unity\,\nJim \nJim Mahler\, President\nAFT Guild\, Local 1931 \n  \nDear AFT Guild Members\, \nCome be a part of a discussion about the upcoming presidential election!  You are cordially invited to join members of AFT 1931’s COPE committee at Tiger! Tiger! at 3025 El Cajon Boulevard (https://www.tigertigertavern.com) for a no-host happy hour discussion of a possible AFT 1931 endorsement for President in the upcoming California primary this March. \nAt this gathering\, members of the COPE committee will be collecting member feedback on whether to endorse in the primary\, and\, if so\, who.  Any determination we come up with here will be brought to the December AFT meeting for formal consideration. \nWhere do the leading candidates stand on labor\, education\, the environment and other issues?  Who best aligns with our principles and core values?  These and other issues will be up for discussion. \nWe have the back room of Tiger! Tiger! reserved beginning at 5:30 and ending promptly at 7:30\, so we’ll leave some time for folks to order beverages and food before beginning the discussion at 6:00 PM.  Feel free to bring a friend but only AFT members in good standing can make motions or vote. \nWe hope to see you there! \nIn Unity\,\nJim \nJim Mahler\, President\nAFT Guild\, Local 1931
URL:https://aftguild.org/event/aft-guild-happy-hour-and-presidential-primary-endorsement-discussion-11-20-530-730
LOCATION:Tiger! Tiger!\, 3025 El Cajon Boulevard\, San Diego\, CA\, 92111\, United States
CATEGORIES:Community Events
END:VEVENT
BEGIN:VEVENT
DTSTART;TZID=America/Los_Angeles:20191205T150000
DTEND;TZID=America/Los_Angeles:20191205T163000
DTSTAMP:20260421T011439
CREATED:20190826T175557Z
LAST-MODIFIED:20191204T211117Z
UID:12075-1575558000-1575563400@aftguild.org
SUMMARY:AFT Guild Union Meeting
DESCRIPTION:  \nDear AFT Guild Members\, \nOur next AFT Guild Union meeting will be held this Thursday\, December 5th\, beginning at 3:00pm at Mesa College in the Mesa Commons\, room MC-211 A/B.  There is parking available along the street in front of the MC building\, and there is also a parking structure as you enter the campus on the left hand side. \nAttached is the tentative agenda for this Thursday’s meeting.  Please let me know if you have any items you would like to see added to the agenda. \nIf you will be attending the meeting\, please bring any petitions you may have completed for the Schools and Communities First ballot initiative\, and if you can\, please also bring an unwrapped gift for the Labor Council toy drive to benefit the children of unemployed/underemployed workers. \nAlso\, immediately following our Union meeting we will have our “Presidential Candidate Forum” discussion that was re-scheduled due to the rain from a couple of weeks ago. \nHope to see you Thursday! \nIn Unity\, \nJim\nJim Mahler\, President\nAFT Guild\, Local 1931 \nMC-211a/b \n 
URL:https://aftguild.org/event/aft-guild-union-meeting-4
LOCATION:Mesa College\, 7250 Mesa College Dr\, San Diego\, CA\, 92111\, United States
CATEGORIES:General Meetings,Mesa College
END:VEVENT
BEGIN:VEVENT
DTSTART;TZID=America/Los_Angeles:20191205T164500
DTEND;TZID=America/Los_Angeles:20191205T184500
DTSTAMP:20260421T011439
CREATED:20191120T223340Z
LAST-MODIFIED:20191120T223340Z
UID:12455-1575564300-1575571500@aftguild.org
SUMMARY:AFT Guild Happy Hour and Presidential Primary Endorsement discussion 12/05\, 4:45-6:45
DESCRIPTION:Dear AFT Guild Members\, \nCome be a part of a discussion about the upcoming presidential election!  You are cordially invited to join members of AFT 1931’s COPE committee at Tiger! Tiger! at 3025 El Cajon Boulevard (https://www.tigertigertavern.com) for a no-host happy hour discussion of a possible AFT 1931 endorsement for President in the upcoming California primary this March. \nAt this gathering\, members of the COPE committee will be collecting member feedback on whether to endorse in the primary\, and\, if so\, who.  Any determination we come up with here will be brought to the December AFT meeting for formal consideration. \nWhere do the leading candidates stand on labor\, education\, the environment and other issues?  Who best aligns with our principles and core values?  These and other issues will be up for discussion. \nWe have the back room of Tiger! Tiger! reserved beginning at 5:30 and ending promptly at 7:30\, so we’ll leave some time for folks to order beverages and food before beginning the discussion at 6:00 PM.  Feel free to bring a friend but only AFT members in good standing can make motions or vote. \nWe hope to see you there! \nIn Unity\,\nJim \nJim Mahler\, President\nAFT Guild\, Local 1931
URL:https://aftguild.org/event/aft-guild-happy-hour-and-presidential-primary-endorsement-discussion-12-05-445-645
LOCATION:Tiger! Tiger!\, 3025 El Cajon Boulevard\, San Diego\, CA\, 92111\, United States
CATEGORIES:Community Events
END:VEVENT
BEGIN:VEVENT
DTSTART;TZID=America/Los_Angeles:20200128T133000
DTEND;TZID=America/Los_Angeles:20200128T150000
DTSTAMP:20260421T011439
CREATED:20200128T145437Z
LAST-MODIFIED:20200128T145437Z
UID:12565-1580218200-1580223600@aftguild.org
SUMMARY:Ice Cream Social Schedule
DESCRIPTION:LRC 455 (Faculty/Staff Lounge)
URL:https://aftguild.org/event/ice-cream-social-schedule-8
LOCATION:Mesa College\, 7250 Mesa College Dr\, San Diego\, CA\, 92111\, United States
CATEGORIES:Community Events
END:VEVENT
BEGIN:VEVENT
DTSTART;TZID=America/Los_Angeles:20200206T150000
DTEND;TZID=America/Los_Angeles:20200206T163000
DTSTAMP:20260421T011439
CREATED:20190826T175743Z
LAST-MODIFIED:20200205T200521Z
UID:12077-1581001200-1581006600@aftguild.org
SUMMARY:AFT Guild Union Meeting
DESCRIPTION:Dear AFT Guild Union Members\, \nJust a friendly reminder that our first meeting of the semester will be held this Thursday\, February 6th beginning at 3:00pm at our North City Center meeting location: North City Center\, 8355 Aero Dr.\, San Diego\, 92123.  There is ample parking in the parking structure adjacent to the building\, on the south side.  We will meet in rooms 101/102\, next to the lobby at the main entrance. \nAttached is the tentative agenda for this Thursday’s meeting.  Please let me know if you have any items you would like to see added to the agenda. \n  \nHope to see you Thursday! \nIn Unity\,\nJim\nJim Mahler\, President
URL:https://aftguild.org/event/aft-guild-union-meeting-5
LOCATION:North City Campus\, 8355 Aero Dr.\, San Diego\, 92123\, United States
CATEGORIES:General Meetings
END:VEVENT
BEGIN:VEVENT
DTSTART;TZID=America/Los_Angeles:20200226T113000
DTEND;TZID=America/Los_Angeles:20200226T121500
DTSTAMP:20260421T011439
CREATED:20200128T143542Z
LAST-MODIFIED:20200128T143542Z
UID:12551-1582716600-1582719300@aftguild.org
SUMMARY:Ice Cream Social Schedule
DESCRIPTION:Faculty/Staff Lounge
URL:https://aftguild.org/event/ice-cream-social-schedule
LOCATION:North City Campus\, 8355 Aero Dr.\, San Diego\, 92123\, United States
CATEGORIES:Community Events
END:VEVENT
BEGIN:VEVENT
DTSTART;TZID=America/Los_Angeles:20200226T133000
DTEND;TZID=America/Los_Angeles:20200226T150000
DTSTAMP:20260421T011439
CREATED:20200128T143837Z
LAST-MODIFIED:20200128T143837Z
UID:12553-1582723800-1582729200@aftguild.org
SUMMARY:Ice Cream Social Schedule
DESCRIPTION:U4-100 (New Employee Lounge)
URL:https://aftguild.org/event/ice-cream-social-schedule-2
LOCATION:Miramar College\, 10440 Black Mountain Rd\,\, San Diego\, CA\, 92126\, United States
CATEGORIES:Community Events
END:VEVENT
BEGIN:VEVENT
DTSTART;TZID=America/Los_Angeles:20200302T120000
DTEND;TZID=America/Los_Angeles:20200302T130000
DTSTAMP:20260421T011439
CREATED:20200128T144111Z
LAST-MODIFIED:20200128T144111Z
UID:12555-1583150400-1583154000@aftguild.org
SUMMARY:Ice Cream Social Schedule
DESCRIPTION:I-107 (Stairwell)
URL:https://aftguild.org/event/ice-cream-social-schedule-3
LOCATION:Cuyamaca College\, 900 Rancho San Diego Pkwy\, El Cajon\, CA\, 92019\, United States
CATEGORIES:Community Events
END:VEVENT
BEGIN:VEVENT
DTSTART;TZID=America/Los_Angeles:20200302T140000
DTEND;TZID=America/Los_Angeles:20200302T153000
DTSTAMP:20260421T011439
CREATED:20200128T144447Z
LAST-MODIFIED:20200128T144447Z
UID:12557-1583157600-1583163000@aftguild.org
SUMMARY:Ice Cream Social Schedule
DESCRIPTION:Patio East Side Admission & Records
URL:https://aftguild.org/event/ice-cream-social-schedule-4
LOCATION:Grossmont College\, 8800 Grossmont College Drive\, El Cajon\, CA\, 92020\, United States
CATEGORIES:Community Events
END:VEVENT
BEGIN:VEVENT
DTSTART;TZID=America/Los_Angeles:20200304T113000
DTEND;TZID=America/Los_Angeles:20200304T121500
DTSTAMP:20260421T011439
CREATED:20200128T144702Z
LAST-MODIFIED:20200128T144702Z
UID:12559-1583321400-1583324100@aftguild.org
SUMMARY:Ice Cream Social Schedule
DESCRIPTION:Staff Lounge
URL:https://aftguild.org/event/ice-cream-social-schedule-5
LOCATION:Cesar Chavez Campus\, 1960 National Ave\, San Diego\, CA\, 92113\, United States
CATEGORIES:Community Events
END:VEVENT
BEGIN:VEVENT
DTSTART;TZID=America/Los_Angeles:20200304T133000
DTEND;TZID=America/Los_Angeles:20200304T150000
DTSTAMP:20260421T011439
CREATED:20200128T144930Z
LAST-MODIFIED:20200128T144930Z
UID:12561-1583328600-1583334000@aftguild.org
SUMMARY:Ice Cream Social Schedule
DESCRIPTION:A-105 (Staff Lounge)
URL:https://aftguild.org/event/ice-cream-social-schedule-6
LOCATION:City College\, 1313 Park Blvd\, San Diego\, CA\, 92101\, United States
CATEGORIES:Community Events
END:VEVENT
BEGIN:VEVENT
DTSTART;TZID=America/Los_Angeles:20200305T150000
DTEND;TZID=America/Los_Angeles:20200305T163000
DTSTAMP:20260421T011439
CREATED:20190826T180011Z
LAST-MODIFIED:20200304T001553Z
UID:12079-1583420400-1583425800@aftguild.org
SUMMARY:AFT Guild Union Meeting
DESCRIPTION:Dear AFT Guild Members\, \nJust a friendly reminder that our next meeting of the semester will be held this Thursday\, March 5th beginning at 3:00pm at Mesa College in the Mesa Commons\, room MC-211 A/B.  There is parking available along the street in front of the MC building\, and there is also a parking structure as you enter the campus on the left hand side. \nAttached is the tentative agenda for this Thursday’s meeting.  Please let me know if you have any items you would like to see added to the agenda. \nHope to see you Thursday! \nIn Unity\, \nJim \nJim Mahler\, President \nAFT Meeting Decorum Policy March 2020 \n 
URL:https://aftguild.org/event/aft-guild-union-meeting-6
LOCATION:Mesa College\, 7250 Mesa College Dr\, San Diego\, CA\, 92111\, United States
CATEGORIES:General Meetings,Mesa College
END:VEVENT
BEGIN:VEVENT
DTSTART;TZID=America/Los_Angeles:20200311T113000
DTEND;TZID=America/Los_Angeles:20200311T121500
DTSTAMP:20260421T011439
CREATED:20200128T145227Z
LAST-MODIFIED:20200128T145227Z
UID:12563-1583926200-1583928900@aftguild.org
SUMMARY:Ice Cream Social Schedule
DESCRIPTION:Faculty/Staff Lounge
URL:https://aftguild.org/event/ice-cream-social-schedule-7
LOCATION:Mid-City Center\, 3792 Fairmount Ave.\, San Diego\, CA\, 92105\, United States
CATEGORIES:Community Events
END:VEVENT
BEGIN:VEVENT
DTSTART;TZID=America/Los_Angeles:20200311T133000
DTEND;TZID=America/Los_Angeles:20200311T150000
DTSTAMP:20260421T011439
CREATED:20200128T151720Z
LAST-MODIFIED:20200128T151720Z
UID:12576-1583933400-1583938800@aftguild.org
SUMMARY:Ice Cream Social Schedule
DESCRIPTION:LRC 455 (Faculty/Staff Lounge)
URL:https://aftguild.org/event/ice-cream-social-schedule-13
LOCATION:Mesa College\, 7250 Mesa College Dr\, San Diego\, CA\, 92111\, United States
CATEGORIES:Community Events
END:VEVENT
BEGIN:VEVENT
DTSTART;TZID=America/Los_Angeles:20200409T150000
DTEND;TZID=America/Los_Angeles:20200409T163000
DTSTAMP:20260421T011439
CREATED:20190826T180210Z
LAST-MODIFIED:20200516T205615Z
UID:12081-1586444400-1586449800@aftguild.org
SUMMARY:AFT Guild Union Meeting
DESCRIPTION:Dear AFT Guild Members\, \nOur first ever teleconferenced union meeting in the history of the Guild will be held this Thursday\, April 9th beginning at 3:00pm via Zoom (see connection details below). \nAttached is the tentative agenda for this Thursday’s meeting.  Please let me know if you have any items you would like to see added to the agenda. \nLooking forward to electronically connecting with you on Thursday! \nIn Unity\,\nJim\nJim Mahler\, President \n  \n 
URL:https://aftguild.org/event/aft-guild-union-meeting-7
LOCATION:CA\, United States
CATEGORIES:General Meetings
END:VEVENT
BEGIN:VEVENT
DTSTART;TZID=America/Los_Angeles:20200507T150000
DTEND;TZID=America/Los_Angeles:20200507T163000
DTSTAMP:20260421T011439
CREATED:20190826T180410Z
LAST-MODIFIED:20200506T011753Z
UID:12083-1588863600-1588869000@aftguild.org
SUMMARY:AFT Guild Union Meeting
DESCRIPTION:Dear AFT Guild Members\, \nOur last AFT Guild meeting of this academic will be held this Thursday\, May 7th beginning at 3:00pm via Zoom (see connection details below). \nAttached is the tentative agenda for this Thursday’s meeting.  Please let me know if you have any items you would like to see added to the agenda. \nAt the end of the meeting we will be holding a contest to see who has: a) the longest beard\, and b) the most root re-growth.  The winner will receive a six-pack of toilet paper!  You won’t want to miss out! \nLooking forward to electronically connecting with you on Thursday! \nIn Unity\,\nJim\nJim Mahler\, President \nUnion Agenda May 2020 \nAFT Just Recovery
URL:https://aftguild.org/event/aft-guild-union-meeting-8
LOCATION:CA\, United States
CATEGORIES:General Meetings
END:VEVENT
END:VCALENDAR