BEGIN:VCALENDAR
VERSION:2.0
PRODID:-//The AFT Guild - ECPv6.15.17.1//NONSGML v1.0//EN
CALSCALE:GREGORIAN
METHOD:PUBLISH
X-ORIGINAL-URL:https://aftguild.org
X-WR-CALDESC:Events for The AFT Guild
REFRESH-INTERVAL;VALUE=DURATION:PT1H
X-Robots-Tag:noindex
X-PUBLISHED-TTL:PT1H
BEGIN:VTIMEZONE
TZID:America/Los_Angeles
BEGIN:DAYLIGHT
TZOFFSETFROM:-0800
TZOFFSETTO:-0700
TZNAME:PDT
DTSTART:20240310T100000
END:DAYLIGHT
BEGIN:STANDARD
TZOFFSETFROM:-0700
TZOFFSETTO:-0800
TZNAME:PST
DTSTART:20241103T090000
END:STANDARD
BEGIN:DAYLIGHT
TZOFFSETFROM:-0800
TZOFFSETTO:-0700
TZNAME:PDT
DTSTART:20250309T100000
END:DAYLIGHT
BEGIN:STANDARD
TZOFFSETFROM:-0700
TZOFFSETTO:-0800
TZNAME:PST
DTSTART:20251102T090000
END:STANDARD
BEGIN:DAYLIGHT
TZOFFSETFROM:-0800
TZOFFSETTO:-0700
TZNAME:PDT
DTSTART:20260308T100000
END:DAYLIGHT
BEGIN:STANDARD
TZOFFSETFROM:-0700
TZOFFSETTO:-0800
TZNAME:PST
DTSTART:20261101T090000
END:STANDARD
BEGIN:DAYLIGHT
TZOFFSETFROM:-0800
TZOFFSETTO:-0700
TZNAME:PDT
DTSTART:20270314T100000
END:DAYLIGHT
BEGIN:STANDARD
TZOFFSETFROM:-0700
TZOFFSETTO:-0800
TZNAME:PST
DTSTART:20271107T090000
END:STANDARD
END:VTIMEZONE
BEGIN:VEVENT
DTSTART;TZID=America/Los_Angeles:20251204T150000
DTEND;TZID=America/Los_Angeles:20251204T170000
DTSTAMP:20260420T030555
CREATED:20250821T213107Z
LAST-MODIFIED:20250821T213107Z
UID:19731-1764860400-1764867600@aftguild.org
SUMMARY:AFT Guild General Meeting Grossmont College
DESCRIPTION:Griffin Gate
URL:https://aftguild.org/event/aft-guild-general-meeting-grossmont-college
LOCATION:Grossmont College\, 8800 Grossmont College Drive\, El Cajon\, CA\, 92020\, United States
CATEGORIES:General Meetings,Grossmont College
END:VEVENT
BEGIN:VEVENT
DTSTART;TZID=America/Los_Angeles:20260205T150000
DTEND;TZID=America/Los_Angeles:20260205T170000
DTSTAMP:20260420T030555
CREATED:20250821T213202Z
LAST-MODIFIED:20250821T213202Z
UID:19733-1770303600-1770310800@aftguild.org
SUMMARY:AFT Guild General Meeting Continuing Education North City
DESCRIPTION:
URL:https://aftguild.org/event/aft-guild-general-meeting-continuing-education-north-city-2
LOCATION:North City Campus\, 8355 Aero Dr.\, San Diego\, 92123\, United States
CATEGORIES:General Meetings
END:VEVENT
BEGIN:VEVENT
DTSTART;TZID=America/Los_Angeles:20260305T150000
DTEND;TZID=America/Los_Angeles:20260305T170000
DTSTAMP:20260420T030555
CREATED:20250821T213252Z
LAST-MODIFIED:20250821T213252Z
UID:19735-1772722800-1772730000@aftguild.org
SUMMARY:AFT Guild General Meeting Cuyamaca College
DESCRIPTION:I207/208
URL:https://aftguild.org/event/aft-guild-general-meeting-cuyamaca-college
LOCATION:Cuyamaca College\, 900 Rancho San Diego Pkwy\, El Cajon\, CA\, 92019\, United States
CATEGORIES:Cuyamaca College,General Meetings
END:VEVENT
BEGIN:VEVENT
DTSTART;TZID=America/Los_Angeles:20260409T150000
DTEND;TZID=America/Los_Angeles:20260409T170000
DTSTAMP:20260420T030555
CREATED:20250821T213336Z
LAST-MODIFIED:20250821T213336Z
UID:19737-1775746800-1775754000@aftguild.org
SUMMARY:AFT Guild General Meeting City College
DESCRIPTION:MS 140
URL:https://aftguild.org/event/aft-guild-general-meeting-city-college-2
LOCATION:City College\, 1313 Park Blvd\, San Diego\, CA\, 92101\, United States
CATEGORIES:City College,General Meetings
END:VEVENT
BEGIN:VEVENT
DTSTART;TZID=America/Los_Angeles:20260507T150000
DTEND;TZID=America/Los_Angeles:20260507T170000
DTSTAMP:20260420T030555
CREATED:20250821T213428Z
LAST-MODIFIED:20250821T213428Z
UID:19739-1778166000-1778173200@aftguild.org
SUMMARY:AFT Guild General Meeting Continuing Education
DESCRIPTION:Cesar Chavez Rooftop
URL:https://aftguild.org/event/aft-guild-general-meeting-continuing-education
LOCATION:Cesar Chavez Campus\, 1960 National Ave\, San Diego\, CA\, 92113\, United States
CATEGORIES:Continuing Education,General Meetings
END:VEVENT
END:VCALENDAR