BEGIN:VCALENDAR
VERSION:2.0
PRODID:-//The AFT Guild - ECPv6.15.17.1//NONSGML v1.0//EN
CALSCALE:GREGORIAN
METHOD:PUBLISH
X-WR-CALNAME:The AFT Guild
X-ORIGINAL-URL:https://aftguild.org
X-WR-CALDESC:Events for The AFT Guild
REFRESH-INTERVAL;VALUE=DURATION:PT1H
X-Robots-Tag:noindex
X-PUBLISHED-TTL:PT1H
BEGIN:VTIMEZONE
TZID:America/Los_Angeles
BEGIN:DAYLIGHT
TZOFFSETFROM:-0800
TZOFFSETTO:-0700
TZNAME:PDT
DTSTART:20240310T100000
END:DAYLIGHT
BEGIN:STANDARD
TZOFFSETFROM:-0700
TZOFFSETTO:-0800
TZNAME:PST
DTSTART:20241103T090000
END:STANDARD
BEGIN:DAYLIGHT
TZOFFSETFROM:-0800
TZOFFSETTO:-0700
TZNAME:PDT
DTSTART:20250309T100000
END:DAYLIGHT
BEGIN:STANDARD
TZOFFSETFROM:-0700
TZOFFSETTO:-0800
TZNAME:PST
DTSTART:20251102T090000
END:STANDARD
BEGIN:DAYLIGHT
TZOFFSETFROM:-0800
TZOFFSETTO:-0700
TZNAME:PDT
DTSTART:20260308T100000
END:DAYLIGHT
BEGIN:STANDARD
TZOFFSETFROM:-0700
TZOFFSETTO:-0800
TZNAME:PST
DTSTART:20261101T090000
END:STANDARD
BEGIN:DAYLIGHT
TZOFFSETFROM:-0800
TZOFFSETTO:-0700
TZNAME:PDT
DTSTART:20270314T100000
END:DAYLIGHT
BEGIN:STANDARD
TZOFFSETFROM:-0700
TZOFFSETTO:-0800
TZNAME:PST
DTSTART:20271107T090000
END:STANDARD
END:VTIMEZONE
BEGIN:VEVENT
DTSTART;TZID=America/Los_Angeles:20250328T090000
DTEND;TZID=America/Los_Angeles:20250328T150000
DTSTAMP:20260425T212337
CREATED:20250303T221427Z
LAST-MODIFIED:20250303T221427Z
UID:19379-1743152400-1743174000@aftguild.org
SUMMARY:Tenure-Track Bootcamp: Interview Questions and Teaching Demo is BACK!
DESCRIPTION:SDCCD and GCCCD have faculty openings! AFT’s Tenure-Track Application Bootcamp is the perfect opportunity to hone your interviewing and your teaching demo! \nNINE of your part-time colleagues who attended an AFT Guild sponsored Tenure-Track Bootcamp have been hired for full-time positions! If you’re looking to increase the odds of landing an interview for a full-time position\, then register for the next AFT Guild Tenure-Track Application Bootcamp! \nSchedule \n\n9:00 – 10:00 – All participants will have the opportunity to ask general questions of facilitators\n10:00 – 12:30 – Break out groups will practice answering interview questions and getting feedback\n12:30 – 1:00 – Lunch (provided)\n1:00 – 3:00 – The break-out groups will do mock teaching demos and get feedback\n\nWhen you register\, you will receive a link to a document that prepares you for the Bootcamp. For your success\, please make sure you draft answers to the interview questions in the document and that you prepare a teaching demonstration! \n\nMarch 28th\, 9:00 – 3:00 pm\nCity College\, MS 123\nRSVP is required: click HERE
URL:https://aftguild.org/event/tenure-track-bootcamp-interview-questions-and-teaching-demo-is-back
LOCATION:City College\, 1313 Park Blvd\, San Diego\, CA\, 92101\, United States
CATEGORIES:City College
ATTACH;FMTTYPE=image/jpeg:https://aftguild.org/wp-content/uploads/2025/03/03-28-25-TT-Bootcamp.jpg
END:VEVENT
BEGIN:VEVENT
DTSTART;TZID=America/Los_Angeles:20250418T130000
DTEND;TZID=America/Los_Angeles:20250418T160000
DTSTAMP:20260425T212337
CREATED:20250327T195131Z
LAST-MODIFIED:20250327T195131Z
UID:19570-1744981200-1744992000@aftguild.org
SUMMARY:Courageous Conversations: Navigating Conflict
DESCRIPTION:Dear AFT Guild Members\, \nWe’re excited to be offering this opportunity to learn about how to have courageous conversations! We invite you to join your AFT colleagues to learn how having these conversations strengthens our communities\, the steps of engaging in courageous conversations\, and then practicing how to have them! \n\nFriday\, April 18\, 1:00 – 4:00 pm\nCity College\, BT 301\nRegistration is required: click HERE
URL:https://aftguild.org/event/courageous-conversations-navigating-conflict
LOCATION:City College\, 1313 Park Blvd\, San Diego\, CA\, 92101\, United States
CATEGORIES:City College
END:VEVENT
BEGIN:VEVENT
DTSTART;TZID=America/Los_Angeles:20251016T133000
DTEND;TZID=America/Los_Angeles:20251016T150000
DTSTAMP:20260425T212337
CREATED:20251009T163419Z
LAST-MODIFIED:20251009T163547Z
UID:19879-1760621400-1760626800@aftguild.org
SUMMARY:Equity is not just for students-  RSVP NEEDED!
DESCRIPTION:AFT and SDCCD Professional Development are teaming up for a professional learning series on embedding equitable practices into our technology practices. This workshop will focus on how to use Microsoft calendar and email equitably and effectively. You’ll learn about universal design principles\, how and why you should use schedule send for emails\, how to make use of all the calendar features and how to increase the chances of your email being read and get your calendar invites accepted \n\nThursday\, October 16\, 1:30 – 3:00 pm\nCity College\, BT 301\nClick HERE to register.\n\nFor more information\, please see the flier below or contact AFTprofdev@outlook.com \nSoon-Ah
URL:https://aftguild.org/event/equity-is-not-just-for-students-rsvp-needed
LOCATION:City College\, 1313 Park Blvd\, San Diego\, CA\, 92101\, United States
CATEGORIES:City College
ATTACH;FMTTYPE=image/jpeg:https://aftguild.org/wp-content/uploads/2025/10/City-Email-and-Calendar.jpg
END:VEVENT
BEGIN:VEVENT
DTSTART;TZID=America/Los_Angeles:20251107T133000
DTEND;TZID=America/Los_Angeles:20251107T153000
DTSTAMP:20260425T212337
CREATED:20251009T172327Z
LAST-MODIFIED:20251009T172327Z
UID:19889-1762522200-1762529400@aftguild.org
SUMMARY:Join us to learn how to say no graciously!
DESCRIPTION:We have 25 spaces open for our popular workshop on Boundaries. If you find yourself saying a reluctant yes\, your boundaries may need some strengthening. Register today to learn what personal and professional boundaries are\, why they are important and how to set them! \n\nFriday\, November 7\, 1:30 – 4:30 pm\nCity College\, BT 301\nSpace is limited to 25\nPlease register HERE\n\nIf you have questions\, please email aftprofdev@outlook.com. Thank you and I hope to see you there! \nSoon-Ah
URL:https://aftguild.org/event/join-us-to-learn-how-to-say-no-graciously
LOCATION:City College\, 1313 Park Blvd\, San Diego\, CA\, 92101\, United States
CATEGORIES:City College
ATTACH;FMTTYPE=image/jpeg:https://aftguild.org/wp-content/uploads/2025/10/Boundaries.jpg
END:VEVENT
BEGIN:VEVENT
DTSTART;TZID=America/Los_Angeles:20251205T133000
DTEND;TZID=America/Los_Angeles:20251205T163000
DTSTAMP:20260425T212337
CREATED:20251009T172647Z
LAST-MODIFIED:20251009T172647Z
UID:19892-1764941400-1764952200@aftguild.org
SUMMARY:Join your AFT colleagues to practice clear\, kind communication!
DESCRIPTION:Humans are so complex! We want and need to be part of a community and we want to be understood. Sometimes those wants and needs mean that we sacrifice clarity for acceptance or the other way around. Join your AFT colleagues to learn the difference between nice and kind\, and why true community depends upon clear\, kind communication. \n\nFriday\, December 5\, 1:30 – 4:30 pm\nCity College\, BT 309\nSpace is limited to 25 – to register\, click HERE\n\nIf you have any questions\, please contact aftprofdev@outlook.com \nHope to see you all there and thank you! \nSoon-Ah
URL:https://aftguild.org/event/join-your-aft-colleagues-to-practice-clear-kind-communication
LOCATION:City College\, 1313 Park Blvd\, San Diego\, CA\, 92101\, United States
CATEGORIES:City College
ATTACH;FMTTYPE=image/jpeg:https://aftguild.org/wp-content/uploads/2025/10/Clear-is-Kind.jpg
END:VEVENT
BEGIN:VEVENT
DTSTART;TZID=America/Los_Angeles:20260227T130000
DTEND;TZID=America/Los_Angeles:20260227T143000
DTSTAMP:20260425T212337
CREATED:20260219T205942Z
LAST-MODIFIED:20260219T205942Z
UID:20151-1772197200-1772202600@aftguild.org
SUMMARY:Classified & NANCE Bootcamp: Application Panel
DESCRIPTION:City College (MS 163) \nRegister Here
URL:https://aftguild.org/event/classified-nance-bootcamp-application-panel
LOCATION:City College\, 1313 Park Blvd\, San Diego\, CA\, 92101\, United States
CATEGORIES:City College
END:VEVENT
BEGIN:VEVENT
DTSTART;TZID=America/Los_Angeles:20260313T090000
DTEND;TZID=America/Los_Angeles:20260313T153000
DTSTAMP:20260425T212337
CREATED:20260219T210523Z
LAST-MODIFIED:20260219T210523Z
UID:20155-1773392400-1773415800@aftguild.org
SUMMARY:Tenure-Track Application Bootcamp: The Interview & Teaching Demo
DESCRIPTION:City College\, MS 123 \nRegister Here
URL:https://aftguild.org/event/tenure-track-application-bootcamp-the-interview-teaching-demo
LOCATION:City College\, 1313 Park Blvd\, San Diego\, CA\, 92101\, United States
CATEGORIES:City College
END:VEVENT
BEGIN:VEVENT
DTSTART;TZID=America/Los_Angeles:20260320T133000
DTEND;TZID=America/Los_Angeles:20260320T163000
DTSTAMP:20260425T212337
CREATED:20260219T210806Z
LAST-MODIFIED:20260219T210806Z
UID:20159-1774013400-1774024200@aftguild.org
SUMMARY:Restorative Justice: Courageous Conversations
DESCRIPTION:City College\, BT 309 \nRegister Here
URL:https://aftguild.org/event/restorative-justice-courageous-conversations
LOCATION:City College\, 1313 Park Blvd\, San Diego\, CA\, 92101\, United States
CATEGORIES:City College
END:VEVENT
BEGIN:VEVENT
DTSTART;TZID=America/Los_Angeles:20260409T150000
DTEND;TZID=America/Los_Angeles:20260409T170000
DTSTAMP:20260425T212337
CREATED:20250821T213336Z
LAST-MODIFIED:20250821T213336Z
UID:19737-1775746800-1775754000@aftguild.org
SUMMARY:AFT Guild General Meeting City College
DESCRIPTION:MS 140
URL:https://aftguild.org/event/aft-guild-general-meeting-city-college-2
LOCATION:City College\, 1313 Park Blvd\, San Diego\, CA\, 92101\, United States
CATEGORIES:City College,General Meetings
END:VEVENT
BEGIN:VEVENT
DTSTART;TZID=America/Los_Angeles:20260410T090000
DTEND;TZID=America/Los_Angeles:20260410T150000
DTSTAMP:20260425T212337
CREATED:20260219T211047Z
LAST-MODIFIED:20260219T211047Z
UID:20161-1775811600-1775833200@aftguild.org
SUMMARY:AFT Mini-Conference
DESCRIPTION:City College (more info to come!)
URL:https://aftguild.org/event/aft-mini-conference
LOCATION:City College\, 1313 Park Blvd\, San Diego\, CA\, 92101\, United States
CATEGORIES:City College
END:VEVENT
END:VCALENDAR